BEGIN:VCALENDAR
VERSION:2.0
PRODID:-//Eesti Piimandusmuuseum - ECPv6.15.20//NONSGML v1.0//EN
CALSCALE:GREGORIAN
METHOD:PUBLISH
X-WR-CALNAME:Eesti Piimandusmuuseum
X-ORIGINAL-URL:https://piimandusmuuseum.ee
X-WR-CALDESC:Events for Eesti Piimandusmuuseum
REFRESH-INTERVAL;VALUE=DURATION:PT1H
X-Robots-Tag:noindex
X-PUBLISHED-TTL:PT1H
BEGIN:VTIMEZONE
TZID:UTC
BEGIN:STANDARD
TZOFFSETFROM:+0000
TZOFFSETTO:+0000
TZNAME:UTC
DTSTART:20190101T000000
END:STANDARD
END:VTIMEZONE
BEGIN:VEVENT
DTSTART;TZID=UTC:20200904T140000
DTEND;TZID=UTC:20200904T160000
DTSTAMP:20260419T222848
CREATED:20200310T115605Z
LAST-MODIFIED:20200526T095826Z
UID:4926-1599228000-1599235200@piimandusmuuseum.ee
SUMMARY:Jäätise valmistamise töötuba (Wile) - broneeritud
DESCRIPTION:
URL:https://piimandusmuuseum.ee/event/jaatise-valmistamise-tootuba-broneeritud-15
LOCATION:Piimandusmuuseum\, H. Rebase 1\, Imavere\, Järva maakond\, 72401\, Eesti
ORGANIZER;CN="Piimandusmuuseum":MAILTO:info@piimandusmuuseum.ee
END:VEVENT
BEGIN:VEVENT
DTSTART;TZID=UTC:20200904T120000
DTEND;TZID=UTC:20200904T133000
DTSTAMP:20260419T222848
CREATED:20200609T145452Z
LAST-MODIFIED:20200609T145452Z
UID:5484-1599220800-1599226200@piimandusmuuseum.ee
SUMMARY:Karaski valmistamise töötuba - broneeritud
DESCRIPTION:
URL:https://piimandusmuuseum.ee/event/karaski-valmistamise-tootuba-broneeritud
LOCATION:Piimandusmuuseum\, H. Rebase 1\, Imavere\, Järva maakond\, 72401\, Eesti
ORGANIZER;CN="Piimandusmuuseum":MAILTO:info@piimandusmuuseum.ee
END:VEVENT
BEGIN:VEVENT
DTSTART;TZID=UTC:20200904T113000
DTEND;TZID=UTC:20200904T130000
DTSTAMP:20260419T222848
CREATED:20200612T063411Z
LAST-MODIFIED:20200612T063411Z
UID:5515-1599219000-1599224400@piimandusmuuseum.ee
SUMMARY:Jäätise valmistamise töötuba - broneeritud
DESCRIPTION:
URL:https://piimandusmuuseum.ee/event/jaatise-valmistamise-tootuba-broneeritud-29
LOCATION:Piimandusmuuseum\, H. Rebase 1\, Imavere\, Järva maakond\, 72401\, Eesti
ORGANIZER;CN="Piimandusmuuseum":MAILTO:info@piimandusmuuseum.ee
END:VEVENT
BEGIN:VEVENT
DTSTART;TZID=UTC:20200903T110000
DTEND;TZID=UTC:20200903T123000
DTSTAMP:20260419T222848
CREATED:20200310T115709Z
LAST-MODIFIED:20200609T145206Z
UID:4930-1599130800-1599136200@piimandusmuuseum.ee
SUMMARY:Kohukese valmistamise töötuba - broneeritud
DESCRIPTION:
URL:https://piimandusmuuseum.ee/event/jaatise-valmistamise-tootuba-broneeritud-16
LOCATION:Piimandusmuuseum\, H. Rebase 1\, Imavere\, Järva maakond\, 72401\, Eesti
ORGANIZER;CN="Piimandusmuuseum":MAILTO:info@piimandusmuuseum.ee
END:VEVENT
BEGIN:VEVENT
DTSTART;TZID=UTC:20200903T090000
DTEND;TZID=UTC:20200903T103000
DTSTAMP:20260419T222848
CREATED:20200609T145254Z
LAST-MODIFIED:20200609T145254Z
UID:5482-1599123600-1599129000@piimandusmuuseum.ee
SUMMARY:Kohukese valmistamise töötuba - broneeritud
DESCRIPTION:
URL:https://piimandusmuuseum.ee/event/kohukese-valmistamise-tootuba-broneeritud-3
LOCATION:Piimandusmuuseum\, H. Rebase 1\, Imavere\, Järva maakond\, 72401\, Eesti
ORGANIZER;CN="Piimandusmuuseum":MAILTO:info@piimandusmuuseum.ee
END:VEVENT
BEGIN:VEVENT
DTSTART;TZID=UTC:20200829T180000
DTEND;TZID=UTC:20200829T220000
DTSTAMP:20260419T222848
CREATED:20200310T114859Z
LAST-MODIFIED:20200603T122838Z
UID:4924-1598724000-1598738400@piimandusmuuseum.ee
SUMMARY:Muuseumiöö "Öös on aega"
DESCRIPTION:Muuseumiöö pühendame  iseendaga olemisele ja mõtisklemisele aja üle.\n18.00 -22.00  muuseumi ekspositsioonide külastus tasuta\nTöötoad:\n18:30 – 19:30 Peas liiguvad mõtted ja nende ajendil me tegutseme. Aegajalt\nme mõtleme üle ja pinged tekitavad peavalu. Peavalu salvi töötuba viib\nläbi Jana Olesk. Tasu 3 eurot.\n19.30-20.30  Muuseumituur\n20:30 – 22:30  Helil ja liikumisel on tervendav jõud. Gongide ja\nhelikausside kaunid ja müstilised helid laevad armastuse ja sisemise\nväega. Seda kõike pakub meile Kaia Karjatse. Tasu 5 eurot.\nOsalemine mõlemas töötoas maksab 8 eurot.\nTöötubadesse palume eelnevalt registeerida:\ninfo@piimandusmuuseum.ee või telefonil 5300 8485. Jälgi reklaami!
URL:https://piimandusmuuseum.ee/event/muuseumi-oo-oos-on-aega
LOCATION:Piimandusmuuseum\, H. Rebase 1\, Imavere\, Järva maakond\, 72401\, Eesti
ORGANIZER;CN="Piimandusmuuseum":MAILTO:info@piimandusmuuseum.ee
END:VEVENT
BEGIN:VEVENT
DTSTART;TZID=UTC:20200829T110000
DTEND;TZID=UTC:20200829T130000
DTSTAMP:20260419T222848
CREATED:20200727T105827Z
LAST-MODIFIED:20200727T105827Z
UID:5693-1598698800-1598706000@piimandusmuuseum.ee
SUMMARY:Jäätise valmistamise töötuba
DESCRIPTION:
URL:https://piimandusmuuseum.ee/event/jaatise-valmistamise-tootuba-2
LOCATION:Piimandusmuuseum\, H. Rebase 1\, Imavere\, Järva maakond\, 72401\, Eesti
ORGANIZER;CN="Piimandusmuuseum":MAILTO:info@piimandusmuuseum.ee
END:VEVENT
BEGIN:VEVENT
DTSTART;TZID=UTC:20200828T140000
DTEND;TZID=UTC:20200828T153000
DTSTAMP:20260419T222848
CREATED:20200827T080100Z
LAST-MODIFIED:20200827T080100Z
UID:5709-1598623200-1598628600@piimandusmuuseum.ee
SUMMARY:Kohukese valmistamise töötuba - broneeritud
DESCRIPTION:
URL:https://piimandusmuuseum.ee/event/kohukese-valmistamise-tootuba-broneeritud-4
LOCATION:Piimandusmuuseum\, H. Rebase 1\, Imavere\, Järva maakond\, 72401\, Eesti
ORGANIZER;CN="Piimandusmuuseum":MAILTO:info@piimandusmuuseum.ee
END:VEVENT
BEGIN:VEVENT
DTSTART;TZID=UTC:20200827T130000
DTEND;TZID=UTC:20200827T140000
DTSTAMP:20260419T222848
CREATED:20200827T080007Z
LAST-MODIFIED:20200827T080007Z
UID:5707-1598533200-1598536800@piimandusmuuseum.ee
SUMMARY:Jäätise valmistamise töötuba - broneeritud
DESCRIPTION:
URL:https://piimandusmuuseum.ee/event/jaatise-valmistamise-tootuba-broneeritud-35
LOCATION:Piimandusmuuseum\, H. Rebase 1\, Imavere\, Järva maakond\, 72401\, Eesti
ORGANIZER;CN="Piimandusmuuseum":MAILTO:info@piimandusmuuseum.ee
END:VEVENT
BEGIN:VEVENT
DTSTART;TZID=UTC:20200827T120000
DTEND;TZID=UTC:20200827T130000
DTSTAMP:20260419T222848
CREATED:20200827T075924Z
LAST-MODIFIED:20200827T075924Z
UID:5705-1598529600-1598533200@piimandusmuuseum.ee
SUMMARY:Ekskursioon
DESCRIPTION:
URL:https://piimandusmuuseum.ee/event/ekskursioon-2
LOCATION:Piimandusmuuseum\, H. Rebase 1\, Imavere\, Järva maakond\, 72401\, Eesti
ORGANIZER;CN="Piimandusmuuseum":MAILTO:info@piimandusmuuseum.ee
END:VEVENT
BEGIN:VEVENT
DTSTART;TZID=UTC:20200827T100000
DTEND;TZID=UTC:20200827T113000
DTSTAMP:20260419T222848
CREATED:20200827T075845Z
LAST-MODIFIED:20200827T075845Z
UID:5703-1598522400-1598527800@piimandusmuuseum.ee
SUMMARY:Jäätise töötuba - broneeritud
DESCRIPTION:
URL:https://piimandusmuuseum.ee/event/jaatise-tootuba-broneeritud-2
LOCATION:Piimandusmuuseum\, H. Rebase 1\, Imavere\, Järva maakond\, 72401\, Eesti
ORGANIZER;CN="Piimandusmuuseum":MAILTO:info@piimandusmuuseum.ee
END:VEVENT
BEGIN:VEVENT
DTSTART;TZID=UTC:20200815T100000
DTEND;TZID=UTC:20200815T113000
DTSTAMP:20260419T222848
CREATED:20200707T093117Z
LAST-MODIFIED:20200707T093117Z
UID:5557-1597485600-1597491000@piimandusmuuseum.ee
SUMMARY:Jäätise valmistamise töötuba
DESCRIPTION:
URL:https://piimandusmuuseum.ee/event/jaatise-valmistamise-tootuba
LOCATION:Piimandusmuuseum\, H. Rebase 1\, Imavere\, Järva maakond\, 72401\, Eesti
ORGANIZER;CN="Piimandusmuuseum":MAILTO:info@piimandusmuuseum.ee
END:VEVENT
BEGIN:VEVENT
DTSTART;TZID=UTC:20200812T080000
DTEND;TZID=UTC:20200812T170000
DTSTAMP:20260419T222848
CREATED:20200727T105632Z
LAST-MODIFIED:20200727T105632Z
UID:5691-1597219200-1597251600@piimandusmuuseum.ee
SUMMARY:Ekskursioon
DESCRIPTION:
URL:https://piimandusmuuseum.ee/event/ekskursioon
LOCATION:Järva maakond
END:VEVENT
BEGIN:VEVENT
DTSTART;TZID=UTC:20200807T000000
DTEND;TZID=UTC:20200809T235900
DTSTAMP:20260419T222848
CREATED:20200727T105239Z
LAST-MODIFIED:20200727T105351Z
UID:5689-1596758400-1597017540@piimandusmuuseum.ee
SUMMARY:Filmi laager muuseumis
DESCRIPTION:
URL:https://piimandusmuuseum.ee/event/filmi-laager-muuseumis
LOCATION:Piimandusmuuseum\, H. Rebase 1\, Imavere\, Järva maakond\, 72401\, Eesti
END:VEVENT
BEGIN:VEVENT
DTSTART;VALUE=DATE:20200804
DTEND;VALUE=DATE:20200805
DTSTAMP:20260419T222848
CREATED:20200727T105148Z
LAST-MODIFIED:20200727T105148Z
UID:5687-1596499200-1596585599@piimandusmuuseum.ee
SUMMARY:Jäätise valmistamise töötuba - broneeritud
DESCRIPTION:
URL:https://piimandusmuuseum.ee/event/jaatise-valmistamise-tootuba-broneeritud-34
LOCATION:Järva maakond
END:VEVENT
BEGIN:VEVENT
DTSTART;TZID=UTC:20200722T160000
DTEND;TZID=UTC:20200722T173000
DTSTAMP:20260419T222848
CREATED:20200707T092941Z
LAST-MODIFIED:20200707T092941Z
UID:5555-1595433600-1595439000@piimandusmuuseum.ee
SUMMARY:Või valmistamise töötuba - broneeritud
DESCRIPTION:
URL:https://piimandusmuuseum.ee/event/voi-valmistamise-tootuba-broneeritud-5
LOCATION:Piimandusmuuseum\, H. Rebase 1\, Imavere\, Järva maakond\, 72401\, Eesti
ORGANIZER;CN="Piimandusmuuseum":MAILTO:info@piimandusmuuseum.ee
END:VEVENT
BEGIN:VEVENT
DTSTART;TZID=UTC:20200718T110000
DTEND;TZID=UTC:20200718T123000
DTSTAMP:20260419T222848
CREATED:20200716T100309Z
LAST-MODIFIED:20200716T100309Z
UID:5662-1595070000-1595075400@piimandusmuuseum.ee
SUMMARY:Jäätise valmistamise töötuba - broneeritud
DESCRIPTION:
URL:https://piimandusmuuseum.ee/event/jaatise-valmistamise-tootuba-broneeritud-33
LOCATION:Piimandusmuuseum\, H. Rebase 1\, Imavere\, Järva maakond\, 72401\, Eesti
ORGANIZER;CN="Piimandusmuuseum":MAILTO:info@piimandusmuuseum.ee
END:VEVENT
BEGIN:VEVENT
DTSTART;TZID=UTC:20200717T170000
DTEND;TZID=UTC:20200717T200000
DTSTAMP:20260419T222848
CREATED:20200603T122528Z
LAST-MODIFIED:20200603T122528Z
UID:5432-1595005200-1595016000@piimandusmuuseum.ee
SUMMARY:Või töötuba Värskas Peipsi Järvefestivalil
DESCRIPTION:http://peipsifestival.ee/jarvefestival/17-07-varska
URL:https://piimandusmuuseum.ee/event/voi-tootuba-varskas-peipsi-jarvefestivalil
LOCATION:Järva maakond
END:VEVENT
BEGIN:VEVENT
DTSTART;TZID=UTC:20200712T120000
DTEND;TZID=UTC:20200712T133000
DTSTAMP:20260419T222848
CREATED:20200707T092629Z
LAST-MODIFIED:20200707T092629Z
UID:5553-1594555200-1594560600@piimandusmuuseum.ee
SUMMARY:Jäätise valmistamise töötuba - broneerimine
DESCRIPTION:
URL:https://piimandusmuuseum.ee/event/jaatise-valmistamise-tootuba-broneerimine
LOCATION:Piimandusmuuseum\, H. Rebase 1\, Imavere\, Järva maakond\, 72401\, Eesti
ORGANIZER;CN="Piimandusmuuseum":MAILTO:info@piimandusmuuseum.ee
END:VEVENT
BEGIN:VEVENT
DTSTART;TZID=UTC:20200712T100000
DTEND;TZID=UTC:20200712T113000
DTSTAMP:20260419T222848
CREATED:20200603T121916Z
LAST-MODIFIED:20200603T121916Z
UID:5427-1594548000-1594553400@piimandusmuuseum.ee
SUMMARY:Jäätise valmistamise töötuba (broneeritud)
DESCRIPTION:
URL:https://piimandusmuuseum.ee/event/jaatise-valmistamise-tootuba-broneeritud-2
LOCATION:Järva maakond
END:VEVENT
BEGIN:VEVENT
DTSTART;TZID=UTC:20200711T150000
DTEND;TZID=UTC:20200711T163000
DTSTAMP:20260419T222848
CREATED:20200603T121737Z
LAST-MODIFIED:20200603T121757Z
UID:5424-1594479600-1594485000@piimandusmuuseum.ee
SUMMARY:Kohukese valmistamise töötuba (broneeritud)
DESCRIPTION:
URL:https://piimandusmuuseum.ee/event/kohukese-valmistamise-tootuba-broneeritud-2
LOCATION:Järva maakond
END:VEVENT
BEGIN:VEVENT
DTSTART;TZID=UTC:20200711T120000
DTEND;TZID=UTC:20200711T140000
DTSTAMP:20260419T222848
CREATED:20200628T190710Z
LAST-MODIFIED:20200628T190710Z
UID:5546-1594468800-1594476000@piimandusmuuseum.ee
SUMMARY:Ekskursioon + töötuba - broneeritud
DESCRIPTION:
URL:https://piimandusmuuseum.ee/event/ekskursioon-tootuba-broneeritud
LOCATION:Piimandusmuuseum\, H. Rebase 1\, Imavere\, Järva maakond\, 72401\, Eesti
ORGANIZER;CN="Piimandusmuuseum":MAILTO:info@piimandusmuuseum.ee
END:VEVENT
BEGIN:VEVENT
DTSTART;TZID=UTC:20200711T100000
DTEND;TZID=UTC:20200711T113000
DTSTAMP:20260419T222848
CREATED:20200707T092429Z
LAST-MODIFIED:20200707T092429Z
UID:5551-1594461600-1594467000@piimandusmuuseum.ee
SUMMARY:Jäätise valmistamise töötuba - broneeritud
DESCRIPTION:
URL:https://piimandusmuuseum.ee/event/jaatise-valmistamise-tootuba-broneeritud-32
LOCATION:Piimandusmuuseum\, H. Rebase 1\, Imavere\, Järva maakond\, 72401\, Eesti
ORGANIZER;CN="Piimandusmuuseum":MAILTO:info@piimandusmuuseum.ee
END:VEVENT
BEGIN:VEVENT
DTSTART;TZID=UTC:20200709T150000
DTEND;TZID=UTC:20200709T170000
DTSTAMP:20260419T222848
CREATED:20200628T190536Z
LAST-MODIFIED:20200628T190536Z
UID:5544-1594306800-1594314000@piimandusmuuseum.ee
SUMMARY:Karaski ja jäätise valmistamise töötuba - broneeritud
DESCRIPTION:
URL:https://piimandusmuuseum.ee/event/karaski-ja-jaatise-valmistamise-tootuba-broneeritud
LOCATION:Piimandusmuuseum\, H. Rebase 1\, Imavere\, Järva maakond\, 72401\, Eesti
ORGANIZER;CN="Piimandusmuuseum":MAILTO:info@piimandusmuuseum.ee
END:VEVENT
BEGIN:VEVENT
DTSTART;TZID=UTC:20200707T110000
DTEND;TZID=UTC:20200707T123000
DTSTAMP:20260419T222848
CREATED:20200707T092319Z
LAST-MODIFIED:20200707T092319Z
UID:5549-1594119600-1594125000@piimandusmuuseum.ee
SUMMARY:Või valmistamise töötuba broneeritud
DESCRIPTION:
URL:https://piimandusmuuseum.ee/event/voi-valmistamise-tootuba-broneeritud-4
LOCATION:Piimandusmuuseum\, H. Rebase 1\, Imavere\, Järva maakond\, 72401\, Eesti
ORGANIZER;CN="Piimandusmuuseum":MAILTO:info@piimandusmuuseum.ee
END:VEVENT
BEGIN:VEVENT
DTSTART;TZID=UTC:20200704T143000
DTEND;TZID=UTC:20200704T160000
DTSTAMP:20260419T222848
CREATED:20200628T190449Z
LAST-MODIFIED:20200628T190449Z
UID:5542-1593873000-1593878400@piimandusmuuseum.ee
SUMMARY:Või valmistamise töötuba - broneeritud
DESCRIPTION:
URL:https://piimandusmuuseum.ee/event/voi-valmistamise-tootuba-broneeritud-2
LOCATION:Piimandusmuuseum\, H. Rebase 1\, Imavere\, Järva maakond\, 72401\, Eesti
ORGANIZER;CN="Piimandusmuuseum":MAILTO:info@piimandusmuuseum.ee
END:VEVENT
BEGIN:VEVENT
DTSTART;TZID=UTC:20200627T120000
DTEND;TZID=UTC:20200627T133000
DTSTAMP:20260419T222848
CREATED:20200603T121542Z
LAST-MODIFIED:20200603T121542Z
UID:5421-1593259200-1593264600@piimandusmuuseum.ee
SUMMARY:Jäätise töötuba (broneeritud)
DESCRIPTION:
URL:https://piimandusmuuseum.ee/event/jaatise-tootuba-broneeritud
LOCATION:Järva maakond
END:VEVENT
BEGIN:VEVENT
DTSTART;TZID=UTC:20200627T100000
DTEND;TZID=UTC:20200627T113000
DTSTAMP:20260419T222848
CREATED:20200612T063206Z
LAST-MODIFIED:20200612T063206Z
UID:5513-1593252000-1593257400@piimandusmuuseum.ee
SUMMARY:Jäätise valmistamise töötuba - broneeritud
DESCRIPTION:
URL:https://piimandusmuuseum.ee/event/jaatise-valmistamise-tootuba-broneeritud-28
LOCATION:Piimandusmuuseum\, H. Rebase 1\, Imavere\, Järva maakond\, 72401\, Eesti
ORGANIZER;CN="Piimandusmuuseum":MAILTO:info@piimandusmuuseum.ee
END:VEVENT
BEGIN:VEVENT
DTSTART;TZID=UTC:20200618T110000
DTEND;TZID=UTC:20200618T123000
DTSTAMP:20260419T222848
CREATED:20200609T144856Z
LAST-MODIFIED:20200609T144856Z
UID:5479-1592478000-1592483400@piimandusmuuseum.ee
SUMMARY:Jäätise valmistamise töötuba - broneeritud
DESCRIPTION:
URL:https://piimandusmuuseum.ee/event/jaatise-valmistamise-tootuba-broneeritud-17
LOCATION:Piimandusmuuseum\, H. Rebase 1\, Imavere\, Järva maakond\, 72401\, Eesti
ORGANIZER;CN="Piimandusmuuseum":MAILTO:info@piimandusmuuseum.ee
END:VEVENT
BEGIN:VEVENT
DTSTART;TZID=UTC:20200617T130000
DTEND;TZID=UTC:20200617T143000
DTSTAMP:20260419T222848
CREATED:20200310T120633Z
LAST-MODIFIED:20200603T121220Z
UID:4962-1592398800-1592404200@piimandusmuuseum.ee
SUMMARY:Või valmistamise töötuba - broneeritud
DESCRIPTION:
URL:https://piimandusmuuseum.ee/event/voi-valmistamise-tootuba-broneeritud-3
LOCATION:Piimandusmuuseum\, H. Rebase 1\, Imavere\, Järva maakond\, 72401\, Eesti
ORGANIZER;CN="Piimandusmuuseum":MAILTO:info@piimandusmuuseum.ee
END:VEVENT
END:VCALENDAR