BEGIN:VCALENDAR
VERSION:2.0
PRODID:-//Eesti Piimandusmuuseum - ECPv6.15.20//NONSGML v1.0//EN
CALSCALE:GREGORIAN
METHOD:PUBLISH
X-WR-CALNAME:Eesti Piimandusmuuseum
X-ORIGINAL-URL:https://piimandusmuuseum.ee
X-WR-CALDESC:Events for Eesti Piimandusmuuseum
REFRESH-INTERVAL;VALUE=DURATION:PT1H
X-Robots-Tag:noindex
X-PUBLISHED-TTL:PT1H
BEGIN:VTIMEZONE
TZID:UTC
BEGIN:STANDARD
TZOFFSETFROM:+0000
TZOFFSETTO:+0000
TZNAME:UTC
DTSTART:20190101T000000
END:STANDARD
END:VTIMEZONE
BEGIN:VEVENT
DTSTART;TZID=UTC:20200614T140000
DTEND;TZID=UTC:20200614T153000
DTSTAMP:20260420T002230
CREATED:20200609T144746Z
LAST-MODIFIED:20200609T144746Z
UID:5477-1592143200-1592148600@piimandusmuuseum.ee
SUMMARY:Järavere raamatu esitlus
DESCRIPTION:
URL:https://piimandusmuuseum.ee/event/jaravere-raamatu-esitlus
LOCATION:Piimandusmuuseum\, H. Rebase 1\, Imavere\, Järva maakond\, 72401\, Eesti
END:VEVENT
BEGIN:VEVENT
DTSTART;TZID=UTC:20200613T113000
DTEND;TZID=UTC:20200613T130000
DTSTAMP:20260420T002230
CREATED:20200609T144556Z
LAST-MODIFIED:20200609T144639Z
UID:5474-1592047800-1592053200@piimandusmuuseum.ee
SUMMARY:Jäätise töötuba-broneeritud
DESCRIPTION:
URL:https://piimandusmuuseum.ee/event/jaatise-tootuba
LOCATION:Piimandusmuuseum\, H. Rebase 1\, Imavere\, Järva maakond\, 72401\, Eesti
ORGANIZER;CN="Piimandusmuuseum":MAILTO:info@piimandusmuuseum.ee
END:VEVENT
BEGIN:VEVENT
DTSTART;TZID=UTC:20200514T110000
DTEND;TZID=UTC:20200514T130000
DTSTAMP:20260420T002230
CREATED:20200310T114736Z
LAST-MODIFIED:20200310T114736Z
UID:4920-1589454000-1589461200@piimandusmuuseum.ee
SUMMARY:Jäätise ja kohukese valmistamise töötuba - broneeritud
DESCRIPTION:
URL:https://piimandusmuuseum.ee/event/jaatise-ja-kohukese-valmistamise-tootuba-broneeritud
LOCATION:Piimandusmuuseum\, H. Rebase 1\, Imavere\, Järva maakond\, 72401\, Eesti
ORGANIZER;CN="Piimandusmuuseum":MAILTO:info@piimandusmuuseum.ee
END:VEVENT
BEGIN:VEVENT
DTSTART;TZID=UTC:20200513T120000
DTEND;TZID=UTC:20200513T140000
DTSTAMP:20260420T002230
CREATED:20200310T114700Z
LAST-MODIFIED:20200310T114700Z
UID:4918-1589371200-1589378400@piimandusmuuseum.ee
SUMMARY:Või ja karaski valmistamise töötuba - broneeritud
DESCRIPTION:
URL:https://piimandusmuuseum.ee/event/voi-ja-karaski-valmistamise-tootuba-broneeritud
LOCATION:Piimandusmuuseum\, H. Rebase 1\, Imavere\, Järva maakond\, 72401\, Eesti
ORGANIZER;CN="Piimandusmuuseum":MAILTO:info@piimandusmuuseum.ee
END:VEVENT
BEGIN:VEVENT
DTSTART;TZID=UTC:20200512T100000
DTEND;TZID=UTC:20200512T120000
DTSTAMP:20260420T002230
CREATED:20200310T114621Z
LAST-MODIFIED:20200310T114621Z
UID:4916-1589277600-1589284800@piimandusmuuseum.ee
SUMMARY:Erinevad töötoad - broneeritud
DESCRIPTION:
URL:https://piimandusmuuseum.ee/event/erinevad-tootoad-broneeritud
LOCATION:Piimandusmuuseum\, H. Rebase 1\, Imavere\, Järva maakond\, 72401\, Eesti
ORGANIZER;CN="Piimandusmuuseum":MAILTO:info@piimandusmuuseum.ee
END:VEVENT
BEGIN:VEVENT
DTSTART;TZID=UTC:20200509T143000
DTEND;TZID=UTC:20200509T163000
DTSTAMP:20260420T002230
CREATED:20200310T114452Z
LAST-MODIFIED:20200310T114452Z
UID:4914-1589034600-1589041800@piimandusmuuseum.ee
SUMMARY:Või valmistamise töötuba - broneeritud
DESCRIPTION:
URL:https://piimandusmuuseum.ee/event/voi-valmistamise-tootuba-broneeritud
LOCATION:Piimandusmuuseum\, H. Rebase 1\, Imavere\, Järva maakond\, 72401\, Eesti
ORGANIZER;CN="Piimandusmuuseum":MAILTO:info@piimandusmuuseum.ee
END:VEVENT
BEGIN:VEVENT
DTSTART;TZID=UTC:20200508T100000
DTEND;TZID=UTC:20200508T120000
DTSTAMP:20260420T002230
CREATED:20200310T114423Z
LAST-MODIFIED:20200310T114423Z
UID:4912-1588932000-1588939200@piimandusmuuseum.ee
SUMMARY:Jäätise valmistamise töötuba - broneeritud
DESCRIPTION:
URL:https://piimandusmuuseum.ee/event/jaatise-valmistamise-tootuba-broneeritud-13
LOCATION:Piimandusmuuseum\, H. Rebase 1\, Imavere\, Järva maakond\, 72401\, Eesti
ORGANIZER;CN="Piimandusmuuseum":MAILTO:info@piimandusmuuseum.ee
END:VEVENT
BEGIN:VEVENT
DTSTART;TZID=UTC:20200507T110000
DTEND;TZID=UTC:20200507T130000
DTSTAMP:20260420T002230
CREATED:20200310T114347Z
LAST-MODIFIED:20200310T114347Z
UID:4910-1588849200-1588856400@piimandusmuuseum.ee
SUMMARY:Kohukeste valmistamise töötuba - broneeritud
DESCRIPTION:
URL:https://piimandusmuuseum.ee/event/kohukeste-valmistamise-tootuba-broneeritud-2
LOCATION:Piimandusmuuseum\, H. Rebase 1\, Imavere\, Järva maakond\, 72401\, Eesti
ORGANIZER;CN="Piimandusmuuseum":MAILTO:info@piimandusmuuseum.ee
END:VEVENT
BEGIN:VEVENT
DTSTART;TZID=UTC:20200506T100000
DTEND;TZID=UTC:20200506T120000
DTSTAMP:20260420T002230
CREATED:20200310T114307Z
LAST-MODIFIED:20200310T114307Z
UID:4908-1588759200-1588766400@piimandusmuuseum.ee
SUMMARY:Jäätise valmistamise töötuba - broneeritud
DESCRIPTION:
URL:https://piimandusmuuseum.ee/event/jaatise-valmistamise-tootuba-broneeritud-12
LOCATION:Piimandusmuuseum\, H. Rebase 1\, Imavere\, Järva maakond\, 72401\, Eesti
ORGANIZER;CN="Piimandusmuuseum":MAILTO:info@piimandusmuuseum.ee
END:VEVENT
BEGIN:VEVENT
DTSTART;TZID=UTC:20200505T100000
DTEND;TZID=UTC:20200505T120000
DTSTAMP:20260420T002230
CREATED:20200310T114233Z
LAST-MODIFIED:20200310T114233Z
UID:4906-1588672800-1588680000@piimandusmuuseum.ee
SUMMARY:Jäätise valmistamise töötuba - broneeritud
DESCRIPTION:
URL:https://piimandusmuuseum.ee/event/jaatise-valmistamise-tootuba-broneeritud-11
LOCATION:Piimandusmuuseum\, H. Rebase 1\, Imavere\, Järva maakond\, 72401\, Eesti
ORGANIZER;CN="Piimandusmuuseum":MAILTO:info@piimandusmuuseum.ee
END:VEVENT
BEGIN:VEVENT
DTSTART;TZID=UTC:20200502T110000
DTEND;TZID=UTC:20200502T130000
DTSTAMP:20260420T002230
CREATED:20200310T114156Z
LAST-MODIFIED:20200310T114156Z
UID:4904-1588417200-1588424400@piimandusmuuseum.ee
SUMMARY:Kohukeste valmistamise töötuba - broneeritud
DESCRIPTION:
URL:https://piimandusmuuseum.ee/event/kohukeste-valmistamise-tootuba-broneeritud
LOCATION:Piimandusmuuseum\, H. Rebase 1\, Imavere\, Järva maakond\, 72401\, Eesti
ORGANIZER;CN="Piimandusmuuseum":MAILTO:info@piimandusmuuseum.ee
END:VEVENT
BEGIN:VEVENT
DTSTART;TZID=UTC:20200416T110000
DTEND;TZID=UTC:20200416T123000
DTSTAMP:20260420T002230
CREATED:20200310T114034Z
LAST-MODIFIED:20200310T114034Z
UID:4902-1587034800-1587040200@piimandusmuuseum.ee
SUMMARY:Jäätise valmistamise töötuba - broneeritud
DESCRIPTION:
URL:https://piimandusmuuseum.ee/event/jaatise-valmistamise-tootuba-broneeritud-10
LOCATION:Piimandusmuuseum\, H. Rebase 1\, Imavere\, Järva maakond\, 72401\, Eesti
ORGANIZER;CN="Piimandusmuuseum":MAILTO:info@piimandusmuuseum.ee
END:VEVENT
BEGIN:VEVENT
DTSTART;TZID=UTC:20200415T110000
DTEND;TZID=UTC:20200415T123000
DTSTAMP:20260420T002230
CREATED:20200310T114002Z
LAST-MODIFIED:20200310T114002Z
UID:4900-1586948400-1586953800@piimandusmuuseum.ee
SUMMARY:Jäätise valmistamise töötuba - broneeritud
DESCRIPTION:
URL:https://piimandusmuuseum.ee/event/jaatise-valmistamise-tootuba-broneeritud-9
LOCATION:Piimandusmuuseum\, H. Rebase 1\, Imavere\, Järva maakond\, 72401\, Eesti
ORGANIZER;CN="Piimandusmuuseum":MAILTO:info@piimandusmuuseum.ee
END:VEVENT
BEGIN:VEVENT
DTSTART;TZID=UTC:20200414T110000
DTEND;TZID=UTC:20200414T123000
DTSTAMP:20260420T002230
CREATED:20200310T113920Z
LAST-MODIFIED:20200310T113920Z
UID:4898-1586862000-1586867400@piimandusmuuseum.ee
SUMMARY:Jäätise valmistamise töötuba - broneeritud
DESCRIPTION:
URL:https://piimandusmuuseum.ee/event/jaatise-valmistamise-tootuba-broneeritud-8
LOCATION:Piimandusmuuseum\, H. Rebase 1\, Imavere\, Järva maakond\, 72401\, Eesti
ORGANIZER;CN="Piimandusmuuseum":MAILTO:info@piimandusmuuseum.ee
END:VEVENT
BEGIN:VEVENT
DTSTART;TZID=UTC:20200409T133000
DTEND;TZID=UTC:20200409T153000
DTSTAMP:20260420T002230
CREATED:20200310T113828Z
LAST-MODIFIED:20200310T113828Z
UID:4896-1586439000-1586446200@piimandusmuuseum.ee
SUMMARY:Jäätise valmistamise töötuba - broneeritud
DESCRIPTION:
URL:https://piimandusmuuseum.ee/event/jaatise-valmistamise-tootuba-broneeritud-7
LOCATION:Piimandusmuuseum\, H. Rebase 1\, Imavere\, Järva maakond\, 72401\, Eesti
ORGANIZER;CN="Piimandusmuuseum":MAILTO:info@piimandusmuuseum.ee
END:VEVENT
BEGIN:VEVENT
DTSTART;TZID=UTC:20200408T133000
DTEND;TZID=UTC:20200408T153000
DTSTAMP:20260420T002230
CREATED:20200310T113650Z
LAST-MODIFIED:20200310T113650Z
UID:4894-1586352600-1586359800@piimandusmuuseum.ee
SUMMARY:jäätise valmistamise töötuba - broneeritud
DESCRIPTION:
URL:https://piimandusmuuseum.ee/event/jaatise-valmistamise-tootuba-broneeritud-6
LOCATION:Piimandusmuuseum\, H. Rebase 1\, Imavere\, Järva maakond\, 72401\, Eesti
ORGANIZER;CN="Piimandusmuuseum":MAILTO:info@piimandusmuuseum.ee
END:VEVENT
BEGIN:VEVENT
DTSTART;TZID=UTC:20200403T143000
DTEND;TZID=UTC:20200403T163000
DTSTAMP:20260420T002230
CREATED:20200310T113556Z
LAST-MODIFIED:20200310T113556Z
UID:4892-1585924200-1585931400@piimandusmuuseum.ee
SUMMARY:Jäätise valmistamise töötuba - broneeritud
DESCRIPTION:
URL:https://piimandusmuuseum.ee/event/jaatise-valmistamise-tootuba-broneeritud-5
LOCATION:Piimandusmuuseum\, H. Rebase 1\, Imavere\, Järva maakond\, 72401\, Eesti
ORGANIZER;CN="Piimandusmuuseum":MAILTO:info@piimandusmuuseum.ee
END:VEVENT
BEGIN:VEVENT
DTSTART;TZID=UTC:20200403T110000
DTEND;TZID=UTC:20200403T130000
DTSTAMP:20260420T002230
CREATED:20200310T113512Z
LAST-MODIFIED:20200310T113512Z
UID:4890-1585911600-1585918800@piimandusmuuseum.ee
SUMMARY:jäätise valmistamise töötuba - broneeritud
DESCRIPTION:
URL:https://piimandusmuuseum.ee/event/jaatise-valmistamise-tootuba-broneeritud-4
LOCATION:Piimandusmuuseum\, H. Rebase 1\, Imavere\, Järva maakond\, 72401\, Eesti
ORGANIZER;CN="Piimandusmuuseum":MAILTO:info@piimandusmuuseum.ee
END:VEVENT
BEGIN:VEVENT
DTSTART;TZID=UTC:20200402T150000
DTEND;TZID=UTC:20200402T163000
DTSTAMP:20260420T002230
CREATED:20200310T113424Z
LAST-MODIFIED:20200310T113424Z
UID:4888-1585839600-1585845000@piimandusmuuseum.ee
SUMMARY:Jäätise valmistamise töötuba - broneeritud
DESCRIPTION:
URL:https://piimandusmuuseum.ee/event/jaatise-valmistamise-tootuba-broneeritud-3
LOCATION:Piimandusmuuseum\, H. Rebase 1\, Imavere\, Järva maakond\, 72401\, Eesti
END:VEVENT
BEGIN:VEVENT
DTSTART;TZID=UTC:20200309T000000
DTEND;TZID=UTC:20200309T000000
DTSTAMP:20260420T002230
CREATED:20200309T103544Z
LAST-MODIFIED:20200309T103919Z
UID:4768-1583712000-1583712000@piimandusmuuseum.ee
SUMMARY:Jäätise valmistamise töötuba - broneeritud
DESCRIPTION:
URL:https://piimandusmuuseum.ee/event/jaatise-valmistamise-tootuba-broneeritud
LOCATION:Piimandusmuuseum\, H. Rebase 1\, Imavere\, Järva maakond\, 72401\, Eesti
ORGANIZER;CN="Piimandusmuuseum":MAILTO:info@piimandusmuuseum.ee
END:VEVENT
BEGIN:VEVENT
DTSTART;TZID=UTC:20200307T110000
DTEND;TZID=UTC:20200307T130000
DTSTAMP:20260420T002230
CREATED:20200304T090729Z
LAST-MODIFIED:20200309T103450Z
UID:4765-1583578800-1583586000@piimandusmuuseum.ee
SUMMARY:Kohukese valmistamise töötuba - broneeritud
DESCRIPTION:
URL:https://piimandusmuuseum.ee/event/kohukese-valmistamise-tootuba-broneeritud
LOCATION:Piimandusmuuseum\, H. Rebase 1\, Imavere\, Järva maakond\, 72401\, Eesti
ORGANIZER;CN="Piimandusmuuseum":MAILTO:info@piimandusmuuseum.ee
END:VEVENT
END:VCALENDAR