BEGIN:VCALENDAR
VERSION:2.0
PRODID:-//Eesti Piimandusmuuseum - ECPv6.15.20//NONSGML v1.0//EN
CALSCALE:GREGORIAN
METHOD:PUBLISH
X-WR-CALNAME:Eesti Piimandusmuuseum
X-ORIGINAL-URL:https://piimandusmuuseum.ee
X-WR-CALDESC:Events for Eesti Piimandusmuuseum
REFRESH-INTERVAL;VALUE=DURATION:PT1H
X-Robots-Tag:noindex
X-PUBLISHED-TTL:PT1H
BEGIN:VTIMEZONE
TZID:UTC
BEGIN:STANDARD
TZOFFSETFROM:+0000
TZOFFSETTO:+0000
TZNAME:UTC
DTSTART:20190101T000000
END:STANDARD
END:VTIMEZONE
BEGIN:VEVENT
DTSTART;TZID=UTC:20200409T133000
DTEND;TZID=UTC:20200409T153000
DTSTAMP:20260421T001221
CREATED:20200310T113828Z
LAST-MODIFIED:20200310T113828Z
UID:4896-1586439000-1586446200@piimandusmuuseum.ee
SUMMARY:Jäätise valmistamise töötuba - broneeritud
DESCRIPTION:
URL:https://piimandusmuuseum.ee/event/jaatise-valmistamise-tootuba-broneeritud-7
LOCATION:Piimandusmuuseum\, H. Rebase 1\, Imavere\, Järva maakond\, 72401\, Eesti
ORGANIZER;CN="Piimandusmuuseum":MAILTO:info@piimandusmuuseum.ee
END:VEVENT
BEGIN:VEVENT
DTSTART;TZID=UTC:20200408T133000
DTEND;TZID=UTC:20200408T153000
DTSTAMP:20260421T001221
CREATED:20200310T113650Z
LAST-MODIFIED:20200310T113650Z
UID:4894-1586352600-1586359800@piimandusmuuseum.ee
SUMMARY:jäätise valmistamise töötuba - broneeritud
DESCRIPTION:
URL:https://piimandusmuuseum.ee/event/jaatise-valmistamise-tootuba-broneeritud-6
LOCATION:Piimandusmuuseum\, H. Rebase 1\, Imavere\, Järva maakond\, 72401\, Eesti
ORGANIZER;CN="Piimandusmuuseum":MAILTO:info@piimandusmuuseum.ee
END:VEVENT
BEGIN:VEVENT
DTSTART;TZID=UTC:20200403T143000
DTEND;TZID=UTC:20200403T163000
DTSTAMP:20260421T001221
CREATED:20200310T113556Z
LAST-MODIFIED:20200310T113556Z
UID:4892-1585924200-1585931400@piimandusmuuseum.ee
SUMMARY:Jäätise valmistamise töötuba - broneeritud
DESCRIPTION:
URL:https://piimandusmuuseum.ee/event/jaatise-valmistamise-tootuba-broneeritud-5
LOCATION:Piimandusmuuseum\, H. Rebase 1\, Imavere\, Järva maakond\, 72401\, Eesti
ORGANIZER;CN="Piimandusmuuseum":MAILTO:info@piimandusmuuseum.ee
END:VEVENT
BEGIN:VEVENT
DTSTART;TZID=UTC:20200403T110000
DTEND;TZID=UTC:20200403T130000
DTSTAMP:20260421T001221
CREATED:20200310T113512Z
LAST-MODIFIED:20200310T113512Z
UID:4890-1585911600-1585918800@piimandusmuuseum.ee
SUMMARY:jäätise valmistamise töötuba - broneeritud
DESCRIPTION:
URL:https://piimandusmuuseum.ee/event/jaatise-valmistamise-tootuba-broneeritud-4
LOCATION:Piimandusmuuseum\, H. Rebase 1\, Imavere\, Järva maakond\, 72401\, Eesti
ORGANIZER;CN="Piimandusmuuseum":MAILTO:info@piimandusmuuseum.ee
END:VEVENT
BEGIN:VEVENT
DTSTART;TZID=UTC:20200402T150000
DTEND;TZID=UTC:20200402T163000
DTSTAMP:20260421T001221
CREATED:20200310T113424Z
LAST-MODIFIED:20200310T113424Z
UID:4888-1585839600-1585845000@piimandusmuuseum.ee
SUMMARY:Jäätise valmistamise töötuba - broneeritud
DESCRIPTION:
URL:https://piimandusmuuseum.ee/event/jaatise-valmistamise-tootuba-broneeritud-3
LOCATION:Piimandusmuuseum\, H. Rebase 1\, Imavere\, Järva maakond\, 72401\, Eesti
END:VEVENT
BEGIN:VEVENT
DTSTART;TZID=UTC:20200309T000000
DTEND;TZID=UTC:20200309T000000
DTSTAMP:20260421T001221
CREATED:20200309T103544Z
LAST-MODIFIED:20200309T103919Z
UID:4768-1583712000-1583712000@piimandusmuuseum.ee
SUMMARY:Jäätise valmistamise töötuba - broneeritud
DESCRIPTION:
URL:https://piimandusmuuseum.ee/event/jaatise-valmistamise-tootuba-broneeritud
LOCATION:Piimandusmuuseum\, H. Rebase 1\, Imavere\, Järva maakond\, 72401\, Eesti
ORGANIZER;CN="Piimandusmuuseum":MAILTO:info@piimandusmuuseum.ee
END:VEVENT
BEGIN:VEVENT
DTSTART;TZID=UTC:20200307T110000
DTEND;TZID=UTC:20200307T130000
DTSTAMP:20260421T001221
CREATED:20200304T090729Z
LAST-MODIFIED:20200309T103450Z
UID:4765-1583578800-1583586000@piimandusmuuseum.ee
SUMMARY:Kohukese valmistamise töötuba - broneeritud
DESCRIPTION:
URL:https://piimandusmuuseum.ee/event/kohukese-valmistamise-tootuba-broneeritud
LOCATION:Piimandusmuuseum\, H. Rebase 1\, Imavere\, Järva maakond\, 72401\, Eesti
ORGANIZER;CN="Piimandusmuuseum":MAILTO:info@piimandusmuuseum.ee
END:VEVENT
END:VCALENDAR