BEGIN:VCALENDAR
VERSION:2.0
PRODID:-//Eesti Piimandusmuuseum - ECPv6.15.20//NONSGML v1.0//EN
CALSCALE:GREGORIAN
METHOD:PUBLISH
X-WR-CALNAME:Eesti Piimandusmuuseum
X-ORIGINAL-URL:https://piimandusmuuseum.ee
X-WR-CALDESC:Events for Eesti Piimandusmuuseum
REFRESH-INTERVAL;VALUE=DURATION:PT1H
X-Robots-Tag:noindex
X-PUBLISHED-TTL:PT1H
BEGIN:VTIMEZONE
TZID:UTC
BEGIN:STANDARD
TZOFFSETFROM:+0000
TZOFFSETTO:+0000
TZNAME:UTC
DTSTART:20210101T000000
END:STANDARD
END:VTIMEZONE
BEGIN:VEVENT
DTSTART;TZID=UTC:20220525T103000
DTEND;TZID=UTC:20220525T120000
DTSTAMP:20260420T073117
CREATED:20220420T063908Z
LAST-MODIFIED:20220420T063908Z
UID:6871-1653474600-1653480000@piimandusmuuseum.ee
SUMMARY:Jäätise valmistamise töötuba - broneeritud
DESCRIPTION:
URL:https://piimandusmuuseum.ee/event/jaatise-valmistamise-tootuba-broneeritud-187
LOCATION:Piimandusmuuseum\, H. Rebase 1\, Imavere\, Järva maakond\, 72401\, Eesti
ORGANIZER;CN="Piimandusmuuseum":MAILTO:info@piimandusmuuseum.ee
END:VEVENT
BEGIN:VEVENT
DTSTART;TZID=UTC:20220525T090000
DTEND;TZID=UTC:20220525T103000
DTSTAMP:20260420T073117
CREATED:20220420T063828Z
LAST-MODIFIED:20220420T063828Z
UID:6869-1653469200-1653474600@piimandusmuuseum.ee
SUMMARY:Jäätise valmistamise töötuba - broneeritud
DESCRIPTION:
URL:https://piimandusmuuseum.ee/event/jaatise-valmistamise-tootuba-broneeritud-186
LOCATION:Piimandusmuuseum\, H. Rebase 1\, Imavere\, Järva maakond\, 72401\, Eesti
ORGANIZER;CN="Piimandusmuuseum":MAILTO:info@piimandusmuuseum.ee
END:VEVENT
BEGIN:VEVENT
DTSTART;TZID=UTC:20220524T113000
DTEND;TZID=UTC:20220524T130000
DTSTAMP:20260420T073117
CREATED:20220505T060916Z
LAST-MODIFIED:20220505T060916Z
UID:6903-1653391800-1653397200@piimandusmuuseum.ee
SUMMARY:Jäätise valmistamise töötuba - broneeritud
DESCRIPTION:
URL:https://piimandusmuuseum.ee/event/jaatise-valmistamise-tootuba-broneeritud-196
LOCATION:Piimandusmuuseum\, H. Rebase 1\, Imavere\, Järva maakond\, 72401\, Eesti
ORGANIZER;CN="Piimandusmuuseum":MAILTO:info@piimandusmuuseum.ee
END:VEVENT
BEGIN:VEVENT
DTSTART;TZID=UTC:20220524T093000
DTEND;TZID=UTC:20220524T110000
DTSTAMP:20260420T073117
CREATED:20220420T063717Z
LAST-MODIFIED:20220420T063717Z
UID:6867-1653384600-1653390000@piimandusmuuseum.ee
SUMMARY:Jäätise valmistamise töötuba - broneeritud
DESCRIPTION:
URL:https://piimandusmuuseum.ee/event/jaatise-valmistamise-tootuba-broneeritud-185
LOCATION:Piimandusmuuseum\, H. Rebase 1\, Imavere\, Järva maakond\, 72401\, Eesti
ORGANIZER;CN="Piimandusmuuseum":MAILTO:info@piimandusmuuseum.ee
END:VEVENT
BEGIN:VEVENT
DTSTART;TZID=UTC:20220523T110000
DTEND;TZID=UTC:20220523T123000
DTSTAMP:20260420T073117
CREATED:20220505T060744Z
LAST-MODIFIED:20220505T060744Z
UID:6901-1653303600-1653309000@piimandusmuuseum.ee
SUMMARY:Jäätise valmistamise töötuba - broneeritud
DESCRIPTION:
URL:https://piimandusmuuseum.ee/event/jaatise-valmistamise-tootuba-broneeritud-195
LOCATION:Piimandusmuuseum\, H. Rebase 1\, Imavere\, Järva maakond\, 72401\, Eesti
ORGANIZER;CN="Piimandusmuuseum":MAILTO:info@piimandusmuuseum.ee
END:VEVENT
BEGIN:VEVENT
DTSTART;TZID=UTC:20220523T093000
DTEND;TZID=UTC:20220523T110000
DTSTAMP:20260420T073117
CREATED:20220420T063633Z
LAST-MODIFIED:20220420T063633Z
UID:6865-1653298200-1653303600@piimandusmuuseum.ee
SUMMARY:Jäätise valmistamise töötuba - broneeritud
DESCRIPTION:
URL:https://piimandusmuuseum.ee/event/jaatise-valmistamise-tootuba-broneeritud-184
LOCATION:Piimandusmuuseum\, H. Rebase 1\, Imavere\, Järva maakond\, 72401\, Eesti
ORGANIZER;CN="Piimandusmuuseum":MAILTO:info@piimandusmuuseum.ee
END:VEVENT
BEGIN:VEVENT
DTSTART;TZID=UTC:20220520T110000
DTEND;TZID=UTC:20220520T123000
DTSTAMP:20260420T073117
CREATED:20220420T063522Z
LAST-MODIFIED:20220420T063522Z
UID:6863-1653044400-1653049800@piimandusmuuseum.ee
SUMMARY:Jäätise valmistamise töötuba - broneeritud
DESCRIPTION:
URL:https://piimandusmuuseum.ee/event/jaatise-valmistamise-tootuba-broneeritud-183
LOCATION:Piimandusmuuseum\, H. Rebase 1\, Imavere\, Järva maakond\, 72401\, Eesti
ORGANIZER;CN="Piimandusmuuseum":MAILTO:info@piimandusmuuseum.ee
END:VEVENT
BEGIN:VEVENT
DTSTART;TZID=UTC:20220519T113000
DTEND;TZID=UTC:20220519T130000
DTSTAMP:20260420T073117
CREATED:20220420T063420Z
LAST-MODIFIED:20220420T063420Z
UID:6861-1652959800-1652965200@piimandusmuuseum.ee
SUMMARY:Jäätise valmistamise töötuba - broneeritud
DESCRIPTION:
URL:https://piimandusmuuseum.ee/event/jaatise-valmistamise-tootuba-broneeritud-182
LOCATION:Piimandusmuuseum\, H. Rebase 1\, Imavere\, Järva maakond\, 72401\, Eesti
ORGANIZER;CN="Piimandusmuuseum":MAILTO:info@piimandusmuuseum.ee
END:VEVENT
BEGIN:VEVENT
DTSTART;TZID=UTC:20220519T100000
DTEND;TZID=UTC:20220519T113000
DTSTAMP:20260420T073117
CREATED:20220420T063336Z
LAST-MODIFIED:20220420T063336Z
UID:6859-1652954400-1652959800@piimandusmuuseum.ee
SUMMARY:Jäätise valmistamise töötuba - broneeritud
DESCRIPTION:
URL:https://piimandusmuuseum.ee/event/jaatise-valmistamise-tootuba-broneeritud-181
LOCATION:Järva maakond
END:VEVENT
BEGIN:VEVENT
DTSTART;TZID=UTC:20220518T130000
DTEND;TZID=UTC:20220518T143000
DTSTAMP:20260420T073117
CREATED:20220505T060615Z
LAST-MODIFIED:20220505T060615Z
UID:6899-1652878800-1652884200@piimandusmuuseum.ee
SUMMARY:Jäätise valmistamise töötuba - broneeritud
DESCRIPTION:
URL:https://piimandusmuuseum.ee/event/jaatise-valmistamise-tootuba-broneeritud-194
LOCATION:Piimandusmuuseum\, H. Rebase 1\, Imavere\, Järva maakond\, 72401\, Eesti
ORGANIZER;CN="Piimandusmuuseum":MAILTO:info@piimandusmuuseum.ee
END:VEVENT
BEGIN:VEVENT
DTSTART;TZID=UTC:20220518T100000
DTEND;TZID=UTC:20220518T113000
DTSTAMP:20260420T073117
CREATED:20220420T063245Z
LAST-MODIFIED:20220420T063245Z
UID:6857-1652868000-1652873400@piimandusmuuseum.ee
SUMMARY:Jäätise valmistamise töötuba - broneeritud
DESCRIPTION:
URL:https://piimandusmuuseum.ee/event/jaatise-valmistamise-tootuba-broneeritud-180
LOCATION:Piimandusmuuseum\, H. Rebase 1\, Imavere\, Järva maakond\, 72401\, Eesti
ORGANIZER;CN="Piimandusmuuseum":MAILTO:info@piimandusmuuseum.ee
END:VEVENT
BEGIN:VEVENT
DTSTART;TZID=UTC:20220517T110000
DTEND;TZID=UTC:20220517T123000
DTSTAMP:20260420T073117
CREATED:20220420T063200Z
LAST-MODIFIED:20220420T063200Z
UID:6853-1652785200-1652790600@piimandusmuuseum.ee
SUMMARY:Jäätise valmistamise töötuba - broneeritud
DESCRIPTION:
URL:https://piimandusmuuseum.ee/event/jaatise-valmistamise-tootuba-broneeritud-179
LOCATION:Piimandusmuuseum\, H. Rebase 1\, Imavere\, Järva maakond\, 72401\, Eesti
ORGANIZER;CN="Piimandusmuuseum":MAILTO:info@piimandusmuuseum.ee
END:VEVENT
BEGIN:VEVENT
DTSTART;TZID=UTC:20220517T090000
DTEND;TZID=UTC:20220517T103000
DTSTAMP:20260420T073117
CREATED:20220420T063118Z
LAST-MODIFIED:20220420T063118Z
UID:6851-1652778000-1652783400@piimandusmuuseum.ee
SUMMARY:Jäätise valmistamise töötuba - broneeritud
DESCRIPTION:
URL:https://piimandusmuuseum.ee/event/jaatise-valmistamise-tootuba-broneeritud-178
LOCATION:Piimandusmuuseum\, H. Rebase 1\, Imavere\, Järva maakond\, 72401\, Eesti
ORGANIZER;CN="Piimandusmuuseum":MAILTO:info@piimandusmuuseum.ee
END:VEVENT
BEGIN:VEVENT
DTSTART;TZID=UTC:20220516T100000
DTEND;TZID=UTC:20220516T113000
DTSTAMP:20260420T073117
CREATED:20220420T063038Z
LAST-MODIFIED:20220420T063038Z
UID:6849-1652695200-1652700600@piimandusmuuseum.ee
SUMMARY:Jäätise valmistamise töötuba - broneeritud
DESCRIPTION:
URL:https://piimandusmuuseum.ee/event/jaatise-valmistamise-tootuba-broneeritud-177
LOCATION:Piimandusmuuseum\, H. Rebase 1\, Imavere\, Järva maakond\, 72401\, Eesti
ORGANIZER;CN="Piimandusmuuseum":MAILTO:info@piimandusmuuseum.ee
END:VEVENT
BEGIN:VEVENT
DTSTART;TZID=UTC:20220514T100000
DTEND;TZID=UTC:20220514T113000
DTSTAMP:20260420T073117
CREATED:20220201T091108Z
LAST-MODIFIED:20220201T091108Z
UID:6713-1652522400-1652527800@piimandusmuuseum.ee
SUMMARY:Jäätise valmistamise töötuba - broneeritud
DESCRIPTION:
URL:https://piimandusmuuseum.ee/event/jaatise-valmistamise-tootuba-broneeritud-138
LOCATION:Piimandusmuuseum\, H. Rebase 1\, Imavere\, Järva maakond\, 72401\, Eesti
ORGANIZER;CN="Piimandusmuuseum":MAILTO:info@piimandusmuuseum.ee
END:VEVENT
BEGIN:VEVENT
DTSTART;TZID=UTC:20220513T100000
DTEND;TZID=UTC:20220513T113000
DTSTAMP:20260420T073117
CREATED:20220420T062900Z
LAST-MODIFIED:20220420T062900Z
UID:6847-1652436000-1652441400@piimandusmuuseum.ee
SUMMARY:Jäätise valmistamise töötuba - broneeritud
DESCRIPTION:
URL:https://piimandusmuuseum.ee/event/jaatise-valmistamise-tootuba-broneeritud-176
LOCATION:Piimandusmuuseum\, H. Rebase 1\, Imavere\, Järva maakond\, 72401\, Eesti
ORGANIZER;CN="Piimandusmuuseum":MAILTO:info@piimandusmuuseum.ee
END:VEVENT
BEGIN:VEVENT
DTSTART;TZID=UTC:20220510T100000
DTEND;TZID=UTC:20220510T113000
DTSTAMP:20260420T073117
CREATED:20220420T062752Z
LAST-MODIFIED:20220420T062752Z
UID:6845-1652176800-1652182200@piimandusmuuseum.ee
SUMMARY:Jäätise valmistamise töötuba  - broneeritud
DESCRIPTION:
URL:https://piimandusmuuseum.ee/event/jaatise-valmistamise-tootuba-broneeritud-175
LOCATION:Piimandusmuuseum\, H. Rebase 1\, Imavere\, Järva maakond\, 72401\, Eesti
ORGANIZER;CN="Piimandusmuuseum":MAILTO:info@piimandusmuuseum.ee
END:VEVENT
BEGIN:VEVENT
DTSTART;TZID=UTC:20220509T100000
DTEND;TZID=UTC:20220509T113000
DTSTAMP:20260420T073117
CREATED:20220420T062700Z
LAST-MODIFIED:20220420T062700Z
UID:6843-1652090400-1652095800@piimandusmuuseum.ee
SUMMARY:Jäätise valmistamise töötuba  - broneeritud
DESCRIPTION:
URL:https://piimandusmuuseum.ee/event/jaatise-valmistamise-tootuba-broneeritud-174
LOCATION:Piimandusmuuseum\, H. Rebase 1\, Imavere\, Järva maakond\, 72401\, Eesti
ORGANIZER;CN="Piimandusmuuseum":MAILTO:info@piimandusmuuseum.ee
END:VEVENT
BEGIN:VEVENT
DTSTART;TZID=UTC:20220506T143000
DTEND;TZID=UTC:20220506T160000
DTSTAMP:20260420T073117
CREATED:20220201T091025Z
LAST-MODIFIED:20220201T091025Z
UID:6711-1651847400-1651852800@piimandusmuuseum.ee
SUMMARY:Jäätise valmistamise töötuba - broneeritud
DESCRIPTION:
URL:https://piimandusmuuseum.ee/event/jaatise-valmistamise-tootuba-broneeritud-137
LOCATION:Piimandusmuuseum\, H. Rebase 1\, Imavere\, Järva maakond\, 72401\, Eesti
ORGANIZER;CN="Piimandusmuuseum":MAILTO:info@piimandusmuuseum.ee
END:VEVENT
BEGIN:VEVENT
DTSTART;TZID=UTC:20220505T110000
DTEND;TZID=UTC:20220505T123000
DTSTAMP:20260420T073117
CREATED:20220221T130937Z
LAST-MODIFIED:20220221T130937Z
UID:6736-1651748400-1651753800@piimandusmuuseum.ee
SUMMARY:Jäätise valmistamise töötuba - broneeritud
DESCRIPTION:
URL:https://piimandusmuuseum.ee/event/jaatise-valmistamise-tootuba-broneeritud-146
LOCATION:Piimandusmuuseum\, H. Rebase 1\, Imavere\, Järva maakond\, 72401\, Eesti
ORGANIZER;CN="Piimandusmuuseum":MAILTO:info@piimandusmuuseum.ee
END:VEVENT
BEGIN:VEVENT
DTSTART;TZID=UTC:20220505T093000
DTEND;TZID=UTC:20220505T110000
DTSTAMP:20260420T073117
CREATED:20220221T130900Z
LAST-MODIFIED:20220221T130900Z
UID:6734-1651743000-1651748400@piimandusmuuseum.ee
SUMMARY:Jäätise valmistamise töötuba - broneeritud
DESCRIPTION:
URL:https://piimandusmuuseum.ee/event/jaatise-valmistamise-tootuba-broneeritud-145
LOCATION:Piimandusmuuseum\, H. Rebase 1\, Imavere\, Järva maakond\, 72401\, Eesti
ORGANIZER;CN="Piimandusmuuseum":MAILTO:info@piimandusmuuseum.ee
END:VEVENT
BEGIN:VEVENT
DTSTART;TZID=UTC:20220504T100000
DTEND;TZID=UTC:20220504T113000
DTSTAMP:20260420T073117
CREATED:20220322T131538Z
LAST-MODIFIED:20220322T131538Z
UID:6778-1651658400-1651663800@piimandusmuuseum.ee
SUMMARY:Jäätise valmistamise töötuba  - broneeritud
DESCRIPTION:
URL:https://piimandusmuuseum.ee/event/jaatise-valmistamise-tootuba-broneeritud-152
LOCATION:Piimandusmuuseum\, H. Rebase 1\, Imavere\, Järva maakond\, 72401\, Eesti
ORGANIZER;CN="Piimandusmuuseum":MAILTO:info@piimandusmuuseum.ee
END:VEVENT
BEGIN:VEVENT
DTSTART;TZID=UTC:20220503T120000
DTEND;TZID=UTC:20220503T133000
DTSTAMP:20260420T073117
CREATED:20220221T130758Z
LAST-MODIFIED:20220221T130758Z
UID:6732-1651579200-1651584600@piimandusmuuseum.ee
SUMMARY:Jäätise valmistamise töötuba - broneeritud
DESCRIPTION:
URL:https://piimandusmuuseum.ee/event/jaatise-valmistamise-tootuba-broneeritud-144
LOCATION:Piimandusmuuseum\, H. Rebase 1\, Imavere\, Järva maakond\, 72401\, Eesti
ORGANIZER;CN="Piimandusmuuseum":MAILTO:info@piimandusmuuseum.ee
END:VEVENT
BEGIN:VEVENT
DTSTART;TZID=UTC:20220503T100000
DTEND;TZID=UTC:20220503T113000
DTSTAMP:20260420T073117
CREATED:20220420T062547Z
LAST-MODIFIED:20220420T062547Z
UID:6841-1651572000-1651577400@piimandusmuuseum.ee
SUMMARY:Jäätise valmistamise töötuba  - broneeritud
DESCRIPTION:
URL:https://piimandusmuuseum.ee/event/jaatise-valmistamise-tootuba-broneeritud-173
LOCATION:Piimandusmuuseum\, H. Rebase 1\, Imavere\, Järva maakond\, 72401\, Eesti
ORGANIZER;CN="Piimandusmuuseum":MAILTO:info@piimandusmuuseum.ee
END:VEVENT
BEGIN:VEVENT
DTSTART;TZID=UTC:20220429T110000
DTEND;TZID=UTC:20220429T123000
DTSTAMP:20260420T073117
CREATED:20220405T113416Z
LAST-MODIFIED:20220405T113416Z
UID:6792-1651230000-1651235400@piimandusmuuseum.ee
SUMMARY:Või+karask+ juustude degust.-broneeritud
DESCRIPTION:
URL:https://piimandusmuuseum.ee/event/voikarask-juustude-degust-broneeritud
LOCATION:Piimandusmuuseum\, H. Rebase 1\, Imavere\, Järva maakond\, 72401\, Eesti
ORGANIZER;CN="Piimandusmuuseum":MAILTO:info@piimandusmuuseum.ee
END:VEVENT
BEGIN:VEVENT
DTSTART;TZID=UTC:20220427T140000
DTEND;TZID=UTC:20220427T153000
DTSTAMP:20260420T073117
CREATED:20220405T111002Z
LAST-MODIFIED:20220405T111002Z
UID:6789-1651068000-1651073400@piimandusmuuseum.ee
SUMMARY:Jäätise valmistamise töötuba - broneeritud
DESCRIPTION:
URL:https://piimandusmuuseum.ee/event/jaatise-valmistamise-tootuba-broneeritud-155
LOCATION:Piimandusmuuseum\, H. Rebase 1\, Imavere\, Järva maakond\, 72401\, Eesti
ORGANIZER;CN="Piimandusmuuseum":MAILTO:info@piimandusmuuseum.ee
END:VEVENT
BEGIN:VEVENT
DTSTART;TZID=UTC:20220422T120000
DTEND;TZID=UTC:20220422T133000
DTSTAMP:20260420T073117
CREATED:20220420T062357Z
LAST-MODIFIED:20220420T062357Z
UID:6839-1650628800-1650634200@piimandusmuuseum.ee
SUMMARY:Kohukeste valmistamise töötuba - broneeritud
DESCRIPTION:
URL:https://piimandusmuuseum.ee/event/kohukeste-valmistamise-tootuba-broneeritud-14
LOCATION:Piimandusmuuseum\, H. Rebase 1\, Imavere\, Järva maakond\, 72401\, Eesti
ORGANIZER;CN="Piimandusmuuseum":MAILTO:info@piimandusmuuseum.ee
END:VEVENT
BEGIN:VEVENT
DTSTART;TZID=UTC:20220422T100000
DTEND;TZID=UTC:20220422T113000
DTSTAMP:20260420T073117
CREATED:20220201T090936Z
LAST-MODIFIED:20220201T090936Z
UID:6708-1650621600-1650627000@piimandusmuuseum.ee
SUMMARY:Kohukeste valmistamise töötuba - broneeritud
DESCRIPTION:
URL:https://piimandusmuuseum.ee/event/kohukeste-valmistamise-tootuba-broneeritud-13
LOCATION:Piimandusmuuseum\, H. Rebase 1\, Imavere\, Järva maakond\, 72401\, Eesti
ORGANIZER;CN="Piimandusmuuseum":MAILTO:info@piimandusmuuseum.ee
END:VEVENT
BEGIN:VEVENT
DTSTART;TZID=UTC:20220420T140000
DTEND;TZID=UTC:20220420T153000
DTSTAMP:20260420T073117
CREATED:20220322T131443Z
LAST-MODIFIED:20220322T131443Z
UID:6776-1650463200-1650468600@piimandusmuuseum.ee
SUMMARY:Jäätise valmistamise töötuba  - broneeritud
DESCRIPTION:
URL:https://piimandusmuuseum.ee/event/jaatise-valmistamise-tootuba-broneeritud-151
LOCATION:Piimandusmuuseum\, H. Rebase 1\, Imavere\, Järva maakond\, 72401\, Eesti
ORGANIZER;CN="Piimandusmuuseum":MAILTO:info@piimandusmuuseum.ee
END:VEVENT
BEGIN:VEVENT
DTSTART;TZID=UTC:20220420T123000
DTEND;TZID=UTC:20220420T140000
DTSTAMP:20260420T073117
CREATED:20220322T131412Z
LAST-MODIFIED:20220322T131412Z
UID:6774-1650457800-1650463200@piimandusmuuseum.ee
SUMMARY:Jäätise valmistamise töötuba  - broneeritud
DESCRIPTION:
URL:https://piimandusmuuseum.ee/event/jaatise-valmistamise-tootuba-broneeritud-150
LOCATION:Piimandusmuuseum\, H. Rebase 1\, Imavere\, Järva maakond\, 72401\, Eesti
ORGANIZER;CN="Piimandusmuuseum":MAILTO:info@piimandusmuuseum.ee
END:VEVENT
END:VCALENDAR