BEGIN:VCALENDAR
VERSION:2.0
PRODID:-//Eesti Piimandusmuuseum - ECPv6.15.20//NONSGML v1.0//EN
CALSCALE:GREGORIAN
METHOD:PUBLISH
X-WR-CALNAME:Eesti Piimandusmuuseum
X-ORIGINAL-URL:https://piimandusmuuseum.ee
X-WR-CALDESC:Events for Eesti Piimandusmuuseum
REFRESH-INTERVAL;VALUE=DURATION:PT1H
X-Robots-Tag:noindex
X-PUBLISHED-TTL:PT1H
BEGIN:VTIMEZONE
TZID:UTC
BEGIN:STANDARD
TZOFFSETFROM:+0000
TZOFFSETTO:+0000
TZNAME:UTC
DTSTART:20190101T000000
END:STANDARD
END:VTIMEZONE
BEGIN:VEVENT
DTSTART;TZID=UTC:20201010T080000
DTEND;TZID=UTC:20201010T170000
DTSTAMP:20260419T203336
CREATED:20200827T080654Z
LAST-MODIFIED:20200827T080654Z
UID:5719-1602316800-1602349200@piimandusmuuseum.ee
SUMMARY:Jäätise ja kohukese valmistamise töötuba - broneeritud
DESCRIPTION:
URL:https://piimandusmuuseum.ee/event/jaatise-ja-kohukese-valmistamise-tootuba-broneeritud-2
LOCATION:Piimandusmuuseum\, H. Rebase 1\, Imavere\, Järva maakond\, 72401\, Eesti
ORGANIZER;CN="Piimandusmuuseum":MAILTO:info@piimandusmuuseum.ee
END:VEVENT
BEGIN:VEVENT
DTSTART;TZID=UTC:20200929T100000
DTEND;TZID=UTC:20200929T120000
DTSTAMP:20260419T203336
CREATED:20200911T100540Z
LAST-MODIFIED:20200911T100540Z
UID:5756-1601373600-1601380800@piimandusmuuseum.ee
SUMMARY:Või ja karaski valmistamise  töötuba - broneeritud
DESCRIPTION:
URL:https://piimandusmuuseum.ee/event/voi-ja-karaski-valmistamise-tootuba-broneeritud-3
LOCATION:Piimandusmuuseum\, H. Rebase 1\, Imavere\, Järva maakond\, 72401\, Eesti
ORGANIZER;CN="Piimandusmuuseum":MAILTO:info@piimandusmuuseum.ee
END:VEVENT
BEGIN:VEVENT
DTSTART;TZID=UTC:20200926T120000
DTEND;TZID=UTC:20200926T133000
DTSTAMP:20260419T203336
CREATED:20200827T080549Z
LAST-MODIFIED:20200827T080549Z
UID:5717-1601121600-1601127000@piimandusmuuseum.ee
SUMMARY:Jäätise valmistamise töötuba  - broneeritud
DESCRIPTION:
URL:https://piimandusmuuseum.ee/event/jaatise-valmistamise-tootuba-broneeritud-39
LOCATION:Piimandusmuuseum\, H. Rebase 1\, Imavere\, Järva maakond\, 72401\, Eesti
ORGANIZER;CN="Piimandusmuuseum":MAILTO:info@piimandusmuuseum.ee
END:VEVENT
BEGIN:VEVENT
DTSTART;TZID=UTC:20200923T100000
DTEND;TZID=UTC:20200923T110000
DTSTAMP:20260419T203336
CREATED:20200911T100440Z
LAST-MODIFIED:20200911T100440Z
UID:5754-1600855200-1600858800@piimandusmuuseum.ee
SUMMARY:Jäätise valmistamise töötuba -  broneeritud
DESCRIPTION:
URL:https://piimandusmuuseum.ee/event/jaatise-valmistamise-tootuba-broneeritud-41
LOCATION:Piimandusmuuseum\, H. Rebase 1\, Imavere\, Järva maakond\, 72401\, Eesti
ORGANIZER;CN="Piimandusmuuseum":MAILTO:info@piimandusmuuseum.ee
END:VEVENT
BEGIN:VEVENT
DTSTART;VALUE=DATE:20200921
DTEND;VALUE=DATE:20200922
DTSTAMP:20260419T203336
CREATED:20200911T100340Z
LAST-MODIFIED:20200911T100340Z
UID:5751-1600646400-1600732799@piimandusmuuseum.ee
SUMMARY:Broneeritud
DESCRIPTION:
URL:https://piimandusmuuseum.ee/event/broneeritud
LOCATION:Järva maakond
END:VEVENT
BEGIN:VEVENT
DTSTART;TZID=UTC:20200919T110000
DTEND;TZID=UTC:20200919T130000
DTSTAMP:20260419T203336
CREATED:20200911T100304Z
LAST-MODIFIED:20200911T100304Z
UID:5749-1600513200-1600520400@piimandusmuuseum.ee
SUMMARY:Juustude degusteerimine- broneeritud
DESCRIPTION:
URL:https://piimandusmuuseum.ee/event/juustude-degusteerimine-broneeritud
LOCATION:Piimandusmuuseum\, H. Rebase 1\, Imavere\, Järva maakond\, 72401\, Eesti
ORGANIZER;CN="Piimandusmuuseum":MAILTO:info@piimandusmuuseum.ee
END:VEVENT
BEGIN:VEVENT
DTSTART;TZID=UTC:20200918T150000
DTEND;TZID=UTC:20200918T163000
DTSTAMP:20260419T203336
CREATED:20200609T150456Z
LAST-MODIFIED:20200609T150456Z
UID:5505-1600441200-1600446600@piimandusmuuseum.ee
SUMMARY:Jäätise valmistamise töötuba - broneeritud
DESCRIPTION:
URL:https://piimandusmuuseum.ee/event/jaatise-valmistamise-tootuba-broneeritud-27
LOCATION:Piimandusmuuseum\, H. Rebase 1\, Imavere\, Järva maakond\, 72401\, Eesti
ORGANIZER;CN="Piimandusmuuseum":MAILTO:info@piimandusmuuseum.ee
END:VEVENT
BEGIN:VEVENT
DTSTART;TZID=UTC:20200918T100000
DTEND;TZID=UTC:20200918T113000
DTSTAMP:20260419T203336
CREATED:20200609T150416Z
LAST-MODIFIED:20200609T150416Z
UID:5503-1600423200-1600428600@piimandusmuuseum.ee
SUMMARY:Jäätise valmistamise töötuba - broneeritud
DESCRIPTION:
URL:https://piimandusmuuseum.ee/event/jaatise-valmistamise-tootuba-broneeritud-26
LOCATION:Piimandusmuuseum\, H. Rebase 1\, Imavere\, Järva maakond\, 72401\, Eesti
ORGANIZER;CN="Piimandusmuuseum":MAILTO:info@piimandusmuuseum.ee
END:VEVENT
BEGIN:VEVENT
DTSTART;TZID=UTC:20200917T150000
DTEND;TZID=UTC:20200917T163000
DTSTAMP:20260419T203336
CREATED:20200609T150341Z
LAST-MODIFIED:20200609T150341Z
UID:5501-1600354800-1600360200@piimandusmuuseum.ee
SUMMARY:Jäätise valmistamise töötuba - broneeritud
DESCRIPTION:
URL:https://piimandusmuuseum.ee/event/jaatise-valmistamise-tootuba-broneeritud-25
LOCATION:Piimandusmuuseum\, H. Rebase 1\, Imavere\, Järva maakond\, 72401\, Eesti
ORGANIZER;CN="Piimandusmuuseum":MAILTO:info@piimandusmuuseum.ee
END:VEVENT
BEGIN:VEVENT
DTSTART;TZID=UTC:20200917T110000
DTEND;TZID=UTC:20200917T123000
DTSTAMP:20260419T203336
CREATED:20200827T080449Z
LAST-MODIFIED:20200827T080449Z
UID:5715-1600340400-1600345800@piimandusmuuseum.ee
SUMMARY:Jäätise valmistamise töötuba - broneeritud
DESCRIPTION:
URL:https://piimandusmuuseum.ee/event/jaatise-valmistamise-tootuba-broneeritud-38
LOCATION:Järva maakond
END:VEVENT
BEGIN:VEVENT
DTSTART;TZID=UTC:20200916T150000
DTEND;TZID=UTC:20200916T163000
DTSTAMP:20260419T203336
CREATED:20200609T150258Z
LAST-MODIFIED:20200609T150258Z
UID:5499-1600268400-1600273800@piimandusmuuseum.ee
SUMMARY:Jäätise valmistamise töötuba - broneeritud
DESCRIPTION:
URL:https://piimandusmuuseum.ee/event/jaatise-valmistamise-tootuba-broneeritud-24
LOCATION:Piimandusmuuseum\, H. Rebase 1\, Imavere\, Järva maakond\, 72401\, Eesti
ORGANIZER;CN="Piimandusmuuseum":MAILTO:info@piimandusmuuseum.ee
END:VEVENT
BEGIN:VEVENT
DTSTART;TZID=UTC:20200916T110000
DTEND;TZID=UTC:20200916T123000
DTSTAMP:20260419T203336
CREATED:20200827T080355Z
LAST-MODIFIED:20200827T080355Z
UID:5713-1600254000-1600259400@piimandusmuuseum.ee
SUMMARY:Jäätise valmistamise töötuba  - broneeritud
DESCRIPTION:
URL:https://piimandusmuuseum.ee/event/jaatise-valmistamise-tootuba-broneeritud-37
LOCATION:Piimandusmuuseum\, H. Rebase 1\, Imavere\, Järva maakond\, 72401\, Eesti
ORGANIZER;CN="Piimandusmuuseum":MAILTO:info@piimandusmuuseum.ee
END:VEVENT
BEGIN:VEVENT
DTSTART;TZID=UTC:20200915T150000
DTEND;TZID=UTC:20200915T163000
DTSTAMP:20260419T203336
CREATED:20200609T150231Z
LAST-MODIFIED:20200609T150231Z
UID:5496-1600182000-1600187400@piimandusmuuseum.ee
SUMMARY:Jäätise valmistamise töötuba - broneeritud
DESCRIPTION:
URL:https://piimandusmuuseum.ee/event/jaatise-valmistamise-tootuba-broneeritud-23
LOCATION:Piimandusmuuseum\, H. Rebase 1\, Imavere\, Järva maakond\, 72401\, Eesti
ORGANIZER;CN="Piimandusmuuseum":MAILTO:info@piimandusmuuseum.ee
END:VEVENT
BEGIN:VEVENT
DTSTART;TZID=UTC:20200914T150000
DTEND;TZID=UTC:20200914T170000
DTSTAMP:20260419T203336
CREATED:20200609T150158Z
LAST-MODIFIED:20200609T150158Z
UID:5494-1600095600-1600102800@piimandusmuuseum.ee
SUMMARY:Jäätise valmistamise töötuba - broneeritud
DESCRIPTION:
URL:https://piimandusmuuseum.ee/event/jaatise-valmistamise-tootuba-broneeritud-22
LOCATION:Piimandusmuuseum\, H. Rebase 1\, Imavere\, Järva maakond\, 72401\, Eesti
ORGANIZER;CN="Piimandusmuuseum":MAILTO:info@piimandusmuuseum.ee
END:VEVENT
BEGIN:VEVENT
DTSTART;TZID=UTC:20200913T180000
DTEND;TZID=UTC:20200913T190000
DTSTAMP:20260419T203336
CREATED:20200911T100156Z
LAST-MODIFIED:20200911T100156Z
UID:5747-1600020000-1600023600@piimandusmuuseum.ee
SUMMARY:Ekskursioon - broneeritud
DESCRIPTION:
URL:https://piimandusmuuseum.ee/event/ekskursioon-broneeritud-2
LOCATION:Piimandusmuuseum\, H. Rebase 1\, Imavere\, Järva maakond\, 72401\, Eesti
ORGANIZER;CN="Piimandusmuuseum":MAILTO:info@piimandusmuuseum.ee
END:VEVENT
BEGIN:VEVENT
DTSTART;TZID=UTC:20200913T170000
DTEND;TZID=UTC:20200913T180000
DTSTAMP:20260419T203336
CREATED:20200911T100127Z
LAST-MODIFIED:20200911T100127Z
UID:5745-1600016400-1600020000@piimandusmuuseum.ee
SUMMARY:Ekskursioon - broneeritud
DESCRIPTION:
URL:https://piimandusmuuseum.ee/event/ekskursioon-broneeritud
LOCATION:Piimandusmuuseum\, H. Rebase 1\, Imavere\, Järva maakond\, 72401\, Eesti
ORGANIZER;CN="Piimandusmuuseum":MAILTO:info@piimandusmuuseum.ee
END:VEVENT
BEGIN:VEVENT
DTSTART;TZID=UTC:20200913T130000
DTEND;TZID=UTC:20200913T160000
DTSTAMP:20260419T203336
CREATED:20200526T101103Z
LAST-MODIFIED:20200526T101103Z
UID:5363-1600002000-1600012800@piimandusmuuseum.ee
SUMMARY:Vanavanemate päev
DESCRIPTION:Humoorikas vanavanemate päev maitsvate ja tervislike kokteilidega.
URL:https://piimandusmuuseum.ee/event/vanavanemate-paev
LOCATION:Piimandusmuuseum\, H. Rebase 1\, Imavere\, Järva maakond\, 72401\, Eesti
ORGANIZER;CN="Piimandusmuuseum":MAILTO:info@piimandusmuuseum.ee
END:VEVENT
BEGIN:VEVENT
DTSTART;TZID=UTC:20200912T140000
DTEND;TZID=UTC:20200912T153000
DTSTAMP:20260419T203336
CREATED:20200904T075211Z
LAST-MODIFIED:20200904T075211Z
UID:5734-1599919200-1599924600@piimandusmuuseum.ee
SUMMARY:Tulge teatrisse!
DESCRIPTION:
URL:https://piimandusmuuseum.ee/event/tulge-teatrisse
LOCATION:Piimandusmuuseum\, H. Rebase 1\, Imavere\, Järva maakond\, 72401\, Eesti
END:VEVENT
BEGIN:VEVENT
DTSTART;TZID=UTC:20200912T120000
DTEND;TZID=UTC:20200912T140000
DTSTAMP:20260419T203336
CREATED:20200911T100028Z
LAST-MODIFIED:20200911T100028Z
UID:5743-1599912000-1599919200@piimandusmuuseum.ee
SUMMARY:Või ja karaski valmistamise töötuba - broneeritud
DESCRIPTION:
URL:https://piimandusmuuseum.ee/event/voi-ja-karaski-valmistamise-tootuba-broneeritud-2
LOCATION:Piimandusmuuseum\, H. Rebase 1\, Imavere\, Järva maakond\, 72401\, Eesti
ORGANIZER;CN="Piimandusmuuseum":MAILTO:info@piimandusmuuseum.ee
END:VEVENT
BEGIN:VEVENT
DTSTART;TZID=UTC:20200912T120000
DTEND;TZID=UTC:20200912T140000
DTSTAMP:20260419T203336
CREATED:20200911T095950Z
LAST-MODIFIED:20200911T095950Z
UID:5741-1599912000-1599919200@piimandusmuuseum.ee
SUMMARY:Jäätise valmistamise töötuba -  broneeritud
DESCRIPTION:
URL:https://piimandusmuuseum.ee/event/jaatise-valmistamise-tootuba-broneeritud-40
LOCATION:Piimandusmuuseum\, H. Rebase 1\, Imavere\, Järva maakond\, 72401\, Eesti
ORGANIZER;CN="Piimandusmuuseum":MAILTO:info@piimandusmuuseum.ee
END:VEVENT
BEGIN:VEVENT
DTSTART;TZID=UTC:20200912T100000
DTEND;TZID=UTC:20200912T113000
DTSTAMP:20260419T203336
CREATED:20200827T080245Z
LAST-MODIFIED:20200827T080245Z
UID:5711-1599904800-1599910200@piimandusmuuseum.ee
SUMMARY:Jäätise valmistamise töötuba  -broneeritud
DESCRIPTION:
URL:https://piimandusmuuseum.ee/event/jaatise-valmistamise-tootuba-broneeritud-36
LOCATION:Piimandusmuuseum\, H. Rebase 1\, Imavere\, Järva maakond\, 72401\, Eesti
ORGANIZER;CN="Piimandusmuuseum":MAILTO:info@piimandusmuuseum.ee
END:VEVENT
BEGIN:VEVENT
DTSTART;TZID=UTC:20200911T180000
DTEND;TZID=UTC:20200911T190000
DTSTAMP:20260419T203336
CREATED:20200904T080239Z
LAST-MODIFIED:20200904T080239Z
UID:5738-1599847200-1599850800@piimandusmuuseum.ee
SUMMARY:Etendus kogu perele
DESCRIPTION:
URL:https://piimandusmuuseum.ee/event/etendus-kogu-perele
LOCATION:Piimandusmuuseum\, H. Rebase 1\, Imavere\, Järva maakond\, 72401\, Eesti
END:VEVENT
BEGIN:VEVENT
DTSTART;TZID=UTC:20200911T120000
DTEND;TZID=UTC:20200911T133000
DTSTAMP:20260419T203336
CREATED:20200612T063710Z
LAST-MODIFIED:20200612T063710Z
UID:5521-1599825600-1599831000@piimandusmuuseum.ee
SUMMARY:Jäätise ja kohukeste valmistamise töötuba - broneeritud
DESCRIPTION:
URL:https://piimandusmuuseum.ee/event/jaatise-ja-kohukeste-valmistamise-tootuba-broneeritud
LOCATION:Piimandusmuuseum\, H. Rebase 1\, Imavere\, Järva maakond\, 72401\, Eesti
ORGANIZER;CN="Piimandusmuuseum":MAILTO:info@piimandusmuuseum.ee
END:VEVENT
BEGIN:VEVENT
DTSTART;TZID=UTC:20200911T110000
DTEND;TZID=UTC:20200911T123000
DTSTAMP:20260419T203336
CREATED:20200612T063623Z
LAST-MODIFIED:20200612T063623Z
UID:5519-1599822000-1599827400@piimandusmuuseum.ee
SUMMARY:Jäätise valmistamise töötuba - broneeritud
DESCRIPTION:
URL:https://piimandusmuuseum.ee/event/jaatise-valmistamise-tootuba-broneeritud-31
LOCATION:Piimandusmuuseum\, H. Rebase 1\, Imavere\, Järva maakond\, 72401\, Eesti
ORGANIZER;CN="Piimandusmuuseum":MAILTO:info@piimandusmuuseum.ee
END:VEVENT
BEGIN:VEVENT
DTSTART;TZID=UTC:20200910T110000
DTEND;TZID=UTC:20200910T123000
DTSTAMP:20260419T203336
CREATED:20200609T150053Z
LAST-MODIFIED:20200609T150053Z
UID:5492-1599735600-1599741000@piimandusmuuseum.ee
SUMMARY:Jäätise valmistamise töötuba - broneeritud
DESCRIPTION:
URL:https://piimandusmuuseum.ee/event/jaatise-valmistamise-tootuba-broneeritud-21
LOCATION:Piimandusmuuseum\, H. Rebase 1\, Imavere\, Järva maakond\, 72401\, Eesti
ORGANIZER;CN="Piimandusmuuseum":MAILTO:info@piimandusmuuseum.ee
END:VEVENT
BEGIN:VEVENT
DTSTART;TZID=UTC:20200909T110000
DTEND;TZID=UTC:20200909T123000
DTSTAMP:20260419T203336
CREATED:20200609T145802Z
LAST-MODIFIED:20200609T145802Z
UID:5490-1599649200-1599654600@piimandusmuuseum.ee
SUMMARY:Jäätise valmistamise töötuba - broneeritud
DESCRIPTION:
URL:https://piimandusmuuseum.ee/event/jaatise-valmistamise-tootuba-broneeritud-20
LOCATION:Piimandusmuuseum\, H. Rebase 1\, Imavere\, Järva maakond\, 72401\, Eesti
ORGANIZER;CN="Piimandusmuuseum":MAILTO:info@piimandusmuuseum.ee
END:VEVENT
BEGIN:VEVENT
DTSTART;TZID=UTC:20200908T110000
DTEND;TZID=UTC:20200908T123000
DTSTAMP:20260419T203336
CREATED:20200609T145646Z
LAST-MODIFIED:20200609T145646Z
UID:5488-1599562800-1599568200@piimandusmuuseum.ee
SUMMARY:Jäätise valmistamise töötuba - broneeritud
DESCRIPTION:
URL:https://piimandusmuuseum.ee/event/jaatise-valmistamise-tootuba-broneeritud-19
LOCATION:Piimandusmuuseum\, H. Rebase 1\, Imavere\, Järva maakond\, 72401\, Eesti
ORGANIZER;CN="Piimandusmuuseum":MAILTO:info@piimandusmuuseum.ee
END:VEVENT
BEGIN:VEVENT
DTSTART;TZID=UTC:20200908T090000
DTEND;TZID=UTC:20200908T103000
DTSTAMP:20260419T203336
CREATED:20200609T145557Z
LAST-MODIFIED:20200609T145557Z
UID:5486-1599555600-1599561000@piimandusmuuseum.ee
SUMMARY:Jäätise valmistamise töötuba - broneeritud
DESCRIPTION:
URL:https://piimandusmuuseum.ee/event/jaatise-valmistamise-tootuba-broneeritud-18
LOCATION:Piimandusmuuseum\, H. Rebase 1\, Imavere\, Järva maakond\, 72401\, Eesti
ORGANIZER;CN="Piimandusmuuseum":MAILTO:info@piimandusmuuseum.ee
END:VEVENT
BEGIN:VEVENT
DTSTART;TZID=UTC:20200907T110000
DTEND;TZID=UTC:20200907T130000
DTSTAMP:20260419T203336
CREATED:20200310T114813Z
LAST-MODIFIED:20200526T095930Z
UID:4922-1599476400-1599483600@piimandusmuuseum.ee
SUMMARY:Jäätise valmistamise töötuba - broneeritud
DESCRIPTION:
URL:https://piimandusmuuseum.ee/event/jaatise-valmistamise-tootuba-broneeritud-14
LOCATION:Piimandusmuuseum\, H. Rebase 1\, Imavere\, Järva maakond\, 72401\, Eesti
ORGANIZER;CN="Piimandusmuuseum":MAILTO:info@piimandusmuuseum.ee
END:VEVENT
BEGIN:VEVENT
DTSTART;TZID=UTC:20200907T090000
DTEND;TZID=UTC:20200907T110000
DTSTAMP:20260419T203336
CREATED:20200612T063525Z
LAST-MODIFIED:20200612T063525Z
UID:5517-1599469200-1599476400@piimandusmuuseum.ee
SUMMARY:Jäätise valmistamise töötuba - broneeritud
DESCRIPTION:
URL:https://piimandusmuuseum.ee/event/jaatise-valmistamise-tootuba-broneeritud-30
LOCATION:Piimandusmuuseum\, H. Rebase 1\, Imavere\, Järva maakond\, 72401\, Eesti
ORGANIZER;CN="Piimandusmuuseum":MAILTO:info@piimandusmuuseum.ee
END:VEVENT
END:VCALENDAR