BEGIN:VCALENDAR
VERSION:2.0
PRODID:-//Eesti Piimandusmuuseum - ECPv6.15.20//NONSGML v1.0//EN
CALSCALE:GREGORIAN
METHOD:PUBLISH
X-WR-CALNAME:Eesti Piimandusmuuseum
X-ORIGINAL-URL:https://piimandusmuuseum.ee
X-WR-CALDESC:Events for Eesti Piimandusmuuseum
REFRESH-INTERVAL;VALUE=DURATION:PT1H
X-Robots-Tag:noindex
X-PUBLISHED-TTL:PT1H
BEGIN:VTIMEZONE
TZID:UTC
BEGIN:STANDARD
TZOFFSETFROM:+0000
TZOFFSETTO:+0000
TZNAME:UTC
DTSTART:20190101T000000
END:STANDARD
END:VTIMEZONE
BEGIN:VEVENT
DTSTART;TZID=UTC:20201102T113000
DTEND;TZID=UTC:20201102T133000
DTSTAMP:20260421T030759
CREATED:20201028T201316Z
LAST-MODIFIED:20201028T201316Z
UID:5882-1604316600-1604323800@piimandusmuuseum.ee
SUMMARY:Kohukese valmistamise töötuba - broneeritud
DESCRIPTION:
URL:https://piimandusmuuseum.ee/event/kohukese-valmistamise-tootuba-broneeritud-5
LOCATION:Piimandusmuuseum\, H. Rebase 1\, Imavere\, Järva maakond\, 72401\, Eesti
ORGANIZER;CN="Piimandusmuuseum":MAILTO:info@piimandusmuuseum.ee
END:VEVENT
BEGIN:VEVENT
DTSTART;TZID=UTC:20201103T090000
DTEND;TZID=UTC:20201103T110000
DTSTAMP:20260421T030759
CREATED:20201028T201349Z
LAST-MODIFIED:20201028T201349Z
UID:5884-1604394000-1604401200@piimandusmuuseum.ee
SUMMARY:Jäätise valmistamise töötuba - broneeritud
DESCRIPTION:
URL:https://piimandusmuuseum.ee/event/jaatise-valmistamise-tootuba-broneeritud-44
LOCATION:Piimandusmuuseum\, H. Rebase 1\, Imavere\, Järva maakond\, 72401\, Eesti
ORGANIZER;CN="Piimandusmuuseum":MAILTO:info@piimandusmuuseum.ee
END:VEVENT
BEGIN:VEVENT
DTSTART;TZID=UTC:20201104T133000
DTEND;TZID=UTC:20201104T150000
DTSTAMP:20260421T030759
CREATED:20201009T122205Z
LAST-MODIFIED:20201009T122205Z
UID:5805-1604496600-1604502000@piimandusmuuseum.ee
SUMMARY:Või ja karaski valmistamise töötuba - broneeritud
DESCRIPTION:
URL:https://piimandusmuuseum.ee/event/voi-ja-karaski-valmistamise-tootuba-broneeritud-4
LOCATION:Piimandusmuuseum\, H. Rebase 1\, Imavere\, Järva maakond\, 72401\, Eesti
ORGANIZER;CN="Piimandusmuuseum":MAILTO:info@piimandusmuuseum.ee
END:VEVENT
BEGIN:VEVENT
DTSTART;TZID=UTC:20201105T123000
DTEND;TZID=UTC:20201105T140000
DTSTAMP:20260421T030759
CREATED:20201028T201611Z
LAST-MODIFIED:20201028T201611Z
UID:5886-1604579400-1604584800@piimandusmuuseum.ee
SUMMARY:Jäätise valmistamise töötuba
DESCRIPTION:
URL:https://piimandusmuuseum.ee/event/jaatise-valmistamise-tootuba-3
LOCATION:Piimandusmuuseum\, H. Rebase 1\, Imavere\, Järva maakond\, 72401\, Eesti
ORGANIZER;CN="Piimandusmuuseum":MAILTO:info@piimandusmuuseum.ee
END:VEVENT
BEGIN:VEVENT
DTSTART;TZID=UTC:20201106T090000
DTEND;TZID=UTC:20201106T103000
DTSTAMP:20260421T030759
CREATED:20201028T201702Z
LAST-MODIFIED:20201028T201702Z
UID:5888-1604653200-1604658600@piimandusmuuseum.ee
SUMMARY:Jäätise valmistamise töötuba -broneeritud
DESCRIPTION:
URL:https://piimandusmuuseum.ee/event/jaatise-valmistamise-tootuba-broneeritud-45
LOCATION:Piimandusmuuseum\, H. Rebase 1\, Imavere\, Järva maakond\, 72401\, Eesti
ORGANIZER;CN="Piimandusmuuseum":MAILTO:info@piimandusmuuseum.ee
END:VEVENT
BEGIN:VEVENT
DTSTART;TZID=UTC:20201112T140000
DTEND;TZID=UTC:20201112T160000
DTSTAMP:20260421T030759
CREATED:20201028T201810Z
LAST-MODIFIED:20201028T201810Z
UID:5890-1605189600-1605196800@piimandusmuuseum.ee
SUMMARY:Või ja karaski valmistamise töötuba - broneeritud
DESCRIPTION:
URL:https://piimandusmuuseum.ee/event/voi-ja-karaski-valmistamise-tootuba-broneeritud-5
LOCATION:Piimandusmuuseum\, H. Rebase 1\, Imavere\, Järva maakond\, 72401\, Eesti
ORGANIZER;CN="Piimandusmuuseum":MAILTO:info@piimandusmuuseum.ee
END:VEVENT
BEGIN:VEVENT
DTSTART;TZID=UTC:20201113T120000
DTEND;TZID=UTC:20201113T140000
DTSTAMP:20260421T030759
CREATED:20201009T122241Z
LAST-MODIFIED:20201009T122241Z
UID:5807-1605268800-1605276000@piimandusmuuseum.ee
SUMMARY:Kohukeste valmistamise töötuba - broneeritud
DESCRIPTION:
URL:https://piimandusmuuseum.ee/event/kohukeste-valmistamise-tootuba-broneeritud-4
LOCATION:Piimandusmuuseum\, H. Rebase 1\, Imavere\, Järva maakond\, 72401\, Eesti
ORGANIZER;CN="Piimandusmuuseum":MAILTO:info@piimandusmuuseum.ee
END:VEVENT
BEGIN:VEVENT
DTSTART;TZID=UTC:20201118T130000
DTEND;TZID=UTC:20201118T143000
DTSTAMP:20260421T030759
CREATED:20201028T201928Z
LAST-MODIFIED:20201028T201928Z
UID:5892-1605704400-1605709800@piimandusmuuseum.ee
SUMMARY:Jäätise valmistamise töötuba - broneeritud
DESCRIPTION:
URL:https://piimandusmuuseum.ee/event/jaatise-valmistamise-tootuba-broneeritud-46
LOCATION:Piimandusmuuseum\, H. Rebase 1\, Imavere\, Järva maakond\, 72401\, Eesti
ORGANIZER;CN="Piimandusmuuseum":MAILTO:info@piimandusmuuseum.ee
END:VEVENT
BEGIN:VEVENT
DTSTART;TZID=UTC:20201118T143000
DTEND;TZID=UTC:20201118T160000
DTSTAMP:20260421T030759
CREATED:20201028T202007Z
LAST-MODIFIED:20201028T202007Z
UID:5894-1605709800-1605715200@piimandusmuuseum.ee
SUMMARY:Jäätise valmistamise töötuba - broneeritud
DESCRIPTION:
URL:https://piimandusmuuseum.ee/event/jaatise-valmistamise-tootuba-broneeritud-47
LOCATION:Piimandusmuuseum\, H. Rebase 1\, Imavere\, Järva maakond\, 72401\, Eesti
ORGANIZER;CN="Piimandusmuuseum":MAILTO:info@piimandusmuuseum.ee
END:VEVENT
BEGIN:VEVENT
DTSTART;TZID=UTC:20201128T100000
DTEND;TZID=UTC:20201128T113000
DTSTAMP:20260421T030759
CREATED:20201028T202104Z
LAST-MODIFIED:20201028T202104Z
UID:5896-1606557600-1606563000@piimandusmuuseum.ee
SUMMARY:Jäätise valmistamise töötuba -broneeritud
DESCRIPTION:
URL:https://piimandusmuuseum.ee/event/jaatise-valmistamise-tootuba-broneeritud-48
LOCATION:Piimandusmuuseum\, H. Rebase 1\, Imavere\, Järva maakond\, 72401\, Eesti
ORGANIZER;CN="Piimandusmuuseum":MAILTO:info@piimandusmuuseum.ee
END:VEVENT
END:VCALENDAR