BEGIN:VCALENDAR
VERSION:2.0
PRODID:-//Eesti Piimandusmuuseum - ECPv6.15.20//NONSGML v1.0//EN
CALSCALE:GREGORIAN
METHOD:PUBLISH
X-ORIGINAL-URL:https://piimandusmuuseum.ee
X-WR-CALDESC:Events for Eesti Piimandusmuuseum
REFRESH-INTERVAL;VALUE=DURATION:PT1H
X-Robots-Tag:noindex
X-PUBLISHED-TTL:PT1H
BEGIN:VTIMEZONE
TZID:UTC
BEGIN:STANDARD
TZOFFSETFROM:+0000
TZOFFSETTO:+0000
TZNAME:UTC
DTSTART:20200101T000000
END:STANDARD
END:VTIMEZONE
BEGIN:VEVENT
DTSTART;VALUE=DATE:20210702
DTEND;VALUE=DATE:20210704
DTSTAMP:20260420T122706
CREATED:20200310T120935Z
LAST-MODIFIED:20200526T094515Z
UID:4972-1625184000-1625356799@piimandusmuuseum.ee
SUMMARY:KOERTE RAHVUSLIK NÄITUS
DESCRIPTION:
URL:https://piimandusmuuseum.ee/event/koerte-rahvuslik-naitus
LOCATION:Piimandusmuuseum\, H. Rebase 1\, Imavere\, Järva maakond\, 72401\, Eesti
END:VEVENT
BEGIN:VEVENT
DTSTART;TZID=UTC:20210702T110000
DTEND;TZID=UTC:20210702T123000
DTSTAMP:20260420T122706
CREATED:20210527T071620Z
LAST-MODIFIED:20210527T071620Z
UID:6365-1625223600-1625229000@piimandusmuuseum.ee
SUMMARY:Jäätise valmistamise töötuba - broneeritud
DESCRIPTION:
URL:https://piimandusmuuseum.ee/event/jaatise-valmistamise-tootuba-broneeritud-104
LOCATION:Piimandusmuuseum\, H. Rebase 1\, Imavere\, Järva maakond\, 72401\, Eesti
ORGANIZER;CN="Piimandusmuuseum":MAILTO:info@piimandusmuuseum.ee
END:VEVENT
BEGIN:VEVENT
DTSTART;TZID=UTC:20210707T120000
DTEND;TZID=UTC:20210707T140000
DTSTAMP:20260420T122706
CREATED:20210527T071804Z
LAST-MODIFIED:20210527T071804Z
UID:6367-1625659200-1625666400@piimandusmuuseum.ee
SUMMARY:Töötuba - broneeritud
DESCRIPTION:
URL:https://piimandusmuuseum.ee/event/tootuba-broneeritud-2
LOCATION:Piimandusmuuseum\, H. Rebase 1\, Imavere\, Järva maakond\, 72401\, Eesti
ORGANIZER;CN="Piimandusmuuseum":MAILTO:info@piimandusmuuseum.ee
END:VEVENT
BEGIN:VEVENT
DTSTART;TZID=UTC:20210711T100000
DTEND;TZID=UTC:20210711T113000
DTSTAMP:20260420T122706
CREATED:20210211T084922Z
LAST-MODIFIED:20210211T084922Z
UID:6165-1625997600-1626003000@piimandusmuuseum.ee
SUMMARY:Jäätise valmistamise töötuba - broneeritud
DESCRIPTION:
URL:https://piimandusmuuseum.ee/event/jaatise-valmistamise-tootuba-broneeritud-63
LOCATION:Piimandusmuuseum\, H. Rebase 1\, Imavere\, Järva maakond\, 72401\, Eesti
ORGANIZER;CN="Piimandusmuuseum":MAILTO:info@piimandusmuuseum.ee
END:VEVENT
BEGIN:VEVENT
DTSTART;TZID=UTC:20210714T110000
DTEND;TZID=UTC:20210714T123000
DTSTAMP:20260420T122706
CREATED:20210510T064837Z
LAST-MODIFIED:20210510T064837Z
UID:6324-1626260400-1626265800@piimandusmuuseum.ee
SUMMARY:Ekskursioon - broneeritud
DESCRIPTION:
URL:https://piimandusmuuseum.ee/event/ekskursioon-broneeritud-4
LOCATION:Piimandusmuuseum\, H. Rebase 1\, Imavere\, Järva maakond\, 72401\, Eesti
ORGANIZER;CN="Piimandusmuuseum":MAILTO:info@piimandusmuuseum.ee
END:VEVENT
BEGIN:VEVENT
DTSTART;TZID=UTC:20210715T110000
DTEND;TZID=UTC:20210715T123000
DTSTAMP:20260420T122706
CREATED:20210714T064035Z
LAST-MODIFIED:20210714T064035Z
UID:6406-1626346800-1626352200@piimandusmuuseum.ee
SUMMARY:Jäätise valmistamise töötuba - broneeritud
DESCRIPTION:
URL:https://piimandusmuuseum.ee/event/jaatise-valmistamise-tootuba-broneeritud-106
LOCATION:Piimandusmuuseum\, H. Rebase 1\, Imavere\, Järva maakond\, 72401\, Eesti
ORGANIZER;CN="Piimandusmuuseum":MAILTO:info@piimandusmuuseum.ee
END:VEVENT
BEGIN:VEVENT
DTSTART;TZID=UTC:20210717T120000
DTEND;TZID=UTC:20210717T133000
DTSTAMP:20260420T122706
CREATED:20210426T130904Z
LAST-MODIFIED:20210426T130904Z
UID:6291-1626523200-1626528600@piimandusmuuseum.ee
SUMMARY:Sõira valmistamise töötuba - broneeritud
DESCRIPTION:
URL:https://piimandusmuuseum.ee/event/soira-valmistamise-tootuba-broneeritud
LOCATION:Piimandusmuuseum\, H. Rebase 1\, Imavere\, Järva maakond\, 72401\, Eesti
ORGANIZER;CN="Piimandusmuuseum":MAILTO:info@piimandusmuuseum.ee
END:VEVENT
BEGIN:VEVENT
DTSTART;TZID=UTC:20210720T120000
DTEND;TZID=UTC:20210720T133000
DTSTAMP:20260420T122706
CREATED:20210714T064143Z
LAST-MODIFIED:20210714T064143Z
UID:6408-1626782400-1626787800@piimandusmuuseum.ee
SUMMARY:Jäätise valmistamise töötuba - broneeritud
DESCRIPTION:
URL:https://piimandusmuuseum.ee/event/jaatise-valmistamise-tootuba-broneeritud-107
LOCATION:Piimandusmuuseum\, H. Rebase 1\, Imavere\, Järva maakond\, 72401\, Eesti
ORGANIZER;CN="Piimandusmuuseum":MAILTO:info@piimandusmuuseum.ee
END:VEVENT
BEGIN:VEVENT
DTSTART;TZID=UTC:20210721T110000
DTEND;TZID=UTC:20210721T123000
DTSTAMP:20260420T122706
CREATED:20210714T064218Z
LAST-MODIFIED:20210714T064218Z
UID:6410-1626865200-1626870600@piimandusmuuseum.ee
SUMMARY:Jäätise valmistamise töötuba - broneeritud
DESCRIPTION:
URL:https://piimandusmuuseum.ee/event/jaatise-valmistamise-tootuba-broneeritud-108
LOCATION:Piimandusmuuseum\, H. Rebase 1\, Imavere\, Järva maakond\, 72401\, Eesti
ORGANIZER;CN="Piimandusmuuseum":MAILTO:info@piimandusmuuseum.ee
END:VEVENT
BEGIN:VEVENT
DTSTART;TZID=UTC:20210723T110000
DTEND;TZID=UTC:20210723T123000
DTSTAMP:20260420T122706
CREATED:20210714T064304Z
LAST-MODIFIED:20210714T064304Z
UID:6412-1627038000-1627043400@piimandusmuuseum.ee
SUMMARY:Jäätise valmistamise töötuba - broneeritud
DESCRIPTION:
URL:https://piimandusmuuseum.ee/event/jaatise-valmistamise-tootuba-broneeritud-109
LOCATION:Piimandusmuuseum\, H. Rebase 1\, Imavere\, Järva maakond\, 72401\, Eesti
ORGANIZER;CN="Piimandusmuuseum":MAILTO:info@piimandusmuuseum.ee
END:VEVENT
BEGIN:VEVENT
DTSTART;TZID=UTC:20210724T123000
DTEND;TZID=UTC:20210724T140000
DTSTAMP:20260420T122706
CREATED:20210527T071913Z
LAST-MODIFIED:20210527T071953Z
UID:6369-1627129800-1627135200@piimandusmuuseum.ee
SUMMARY:Jäätise valmistamise töötuba - broneeritud
DESCRIPTION:
URL:https://piimandusmuuseum.ee/event/jaatise-valmistamise-tootuba-broneeritud-105
LOCATION:Piimandusmuuseum\, H. Rebase 1\, Imavere\, Järva maakond\, 72401\, Eesti
ORGANIZER;CN="Piimandusmuuseum":MAILTO:info@piimandusmuuseum.ee
END:VEVENT
BEGIN:VEVENT
DTSTART;TZID=UTC:20210728T110000
DTEND;TZID=UTC:20210728T123000
DTSTAMP:20260420T122706
CREATED:20210714T064346Z
LAST-MODIFIED:20210714T064346Z
UID:6414-1627470000-1627475400@piimandusmuuseum.ee
SUMMARY:Jäätise valmistamise töötuba -broneeritud
DESCRIPTION:
URL:https://piimandusmuuseum.ee/event/jaatise-valmistamise-tootuba-broneeritud-110
LOCATION:Piimandusmuuseum\, H. Rebase 1\, Imavere\, Järva maakond\, 72401\, Eesti
ORGANIZER;CN="Piimandusmuuseum":MAILTO:info@piimandusmuuseum.ee
END:VEVENT
BEGIN:VEVENT
DTSTART;TZID=UTC:20210731T130000
DTEND;TZID=UTC:20210731T143000
DTSTAMP:20260420T122706
CREATED:20210714T064432Z
LAST-MODIFIED:20210714T064432Z
UID:6416-1627736400-1627741800@piimandusmuuseum.ee
SUMMARY:Jäätise valmistamise töötuba - broneeritud
DESCRIPTION:
URL:https://piimandusmuuseum.ee/event/jaatise-valmistamise-tootuba-broneeritud-111
LOCATION:Piimandusmuuseum\, H. Rebase 1\, Imavere\, Järva maakond\, 72401\, Eesti
ORGANIZER;CN="Piimandusmuuseum":MAILTO:info@piimandusmuuseum.ee
END:VEVENT
END:VCALENDAR