BEGIN:VCALENDAR
VERSION:2.0
PRODID:-//Eesti Piimandusmuuseum - ECPv6.15.20//NONSGML v1.0//EN
CALSCALE:GREGORIAN
METHOD:PUBLISH
X-ORIGINAL-URL:https://piimandusmuuseum.ee
X-WR-CALDESC:Events for Eesti Piimandusmuuseum
REFRESH-INTERVAL;VALUE=DURATION:PT1H
X-Robots-Tag:noindex
X-PUBLISHED-TTL:PT1H
BEGIN:VTIMEZONE
TZID:UTC
BEGIN:STANDARD
TZOFFSETFROM:+0000
TZOFFSETTO:+0000
TZNAME:UTC
DTSTART:20200101T000000
END:STANDARD
END:VTIMEZONE
BEGIN:VEVENT
DTSTART;TZID=UTC:20210812T103000
DTEND;TZID=UTC:20210812T113000
DTSTAMP:20260420T105633
CREATED:20210714T064541Z
LAST-MODIFIED:20210714T064541Z
UID:6418-1628764200-1628767800@piimandusmuuseum.ee
SUMMARY:Jäätise valmistamise töötuba - broneeritud
DESCRIPTION:
URL:https://piimandusmuuseum.ee/event/jaatise-valmistamise-tootuba-broneeritud-112
LOCATION:Piimandusmuuseum\, H. Rebase 1\, Imavere\, Järva maakond\, 72401\, Eesti
ORGANIZER;CN="Piimandusmuuseum":MAILTO:info@piimandusmuuseum.ee
END:VEVENT
BEGIN:VEVENT
DTSTART;TZID=UTC:20210814T110000
DTEND;TZID=UTC:20210814T120000
DTSTAMP:20260420T105633
CREATED:20210804T071319Z
LAST-MODIFIED:20210804T071319Z
UID:6438-1628938800-1628942400@piimandusmuuseum.ee
SUMMARY:Ekskursioon - broneeritud
DESCRIPTION:
URL:https://piimandusmuuseum.ee/event/ekskursioon-broneeritud-5
LOCATION:Piimandusmuuseum\, H. Rebase 1\, Imavere\, Järva maakond\, 72401\, Eesti
ORGANIZER;CN="Piimandusmuuseum":MAILTO:info@piimandusmuuseum.ee
END:VEVENT
BEGIN:VEVENT
DTSTART;TZID=UTC:20210822T100000
DTEND;TZID=UTC:20210822T123000
DTSTAMP:20260420T105633
CREATED:20210211T084956Z
LAST-MODIFIED:20210714T064604Z
UID:6167-1629626400-1629635400@piimandusmuuseum.ee
SUMMARY:Jäätise valmistamise töötuba - broneeritud
DESCRIPTION:
URL:https://piimandusmuuseum.ee/event/jaatise-valmistamise-tootuba-broneeritud-64
LOCATION:Piimandusmuuseum\, H. Rebase 1\, Imavere\, Järva maakond\, 72401\, Eesti
ORGANIZER;CN="Piimandusmuuseum":MAILTO:info@piimandusmuuseum.ee
END:VEVENT
BEGIN:VEVENT
DTSTART;TZID=UTC:20210822T143000
DTEND;TZID=UTC:20210822T160000
DTSTAMP:20260420T105633
CREATED:20210804T071425Z
LAST-MODIFIED:20210804T071425Z
UID:6441-1629642600-1629648000@piimandusmuuseum.ee
SUMMARY:Jäätise valmistamise töötuba - broneeritud
DESCRIPTION:
URL:https://piimandusmuuseum.ee/event/jaatise-valmistamise-tootuba-broneeritud-115
LOCATION:Piimandusmuuseum\, H. Rebase 1\, Imavere\, Järva maakond\, 72401\, Eesti
ORGANIZER;CN="Piimandusmuuseum":MAILTO:info@piimandusmuuseum.ee
END:VEVENT
BEGIN:VEVENT
DTSTART;TZID=UTC:20210827T130000
DTEND;TZID=UTC:20210827T143000
DTSTAMP:20260420T105633
CREATED:20210714T064707Z
LAST-MODIFIED:20210714T064707Z
UID:6420-1630069200-1630074600@piimandusmuuseum.ee
SUMMARY:Või ja karaski valmistamise töötuba - broneeritud
DESCRIPTION:
URL:https://piimandusmuuseum.ee/event/voi-ja-karaski-valmistamise-tootuba-broneeritud-7
LOCATION:Piimandusmuuseum\, H. Rebase 1\, Imavere\, Järva maakond\, 72401\, Eesti
ORGANIZER;CN="Piimandusmuuseum":MAILTO:info@piimandusmuuseum.ee
END:VEVENT
END:VCALENDAR