BEGIN:VCALENDAR
VERSION:2.0
PRODID:-//Eesti Piimandusmuuseum - ECPv6.15.20//NONSGML v1.0//EN
CALSCALE:GREGORIAN
METHOD:PUBLISH
X-WR-CALNAME:Eesti Piimandusmuuseum
X-ORIGINAL-URL:https://piimandusmuuseum.ee
X-WR-CALDESC:Events for Eesti Piimandusmuuseum
REFRESH-INTERVAL;VALUE=DURATION:PT1H
X-Robots-Tag:noindex
X-PUBLISHED-TTL:PT1H
BEGIN:VTIMEZONE
TZID:UTC
BEGIN:STANDARD
TZOFFSETFROM:+0000
TZOFFSETTO:+0000
TZNAME:UTC
DTSTART:20200101T000000
END:STANDARD
END:VTIMEZONE
BEGIN:VEVENT
DTSTART;TZID=UTC:20210903T100000
DTEND;TZID=UTC:20210903T113000
DTSTAMP:20260420T091924
CREATED:20210714T064749Z
LAST-MODIFIED:20210714T064749Z
UID:6422-1630663200-1630668600@piimandusmuuseum.ee
SUMMARY:Jäätise valmistamise töötuba -broneeritud
DESCRIPTION:
URL:https://piimandusmuuseum.ee/event/jaatise-valmistamise-tootuba-broneeritud-113
LOCATION:Piimandusmuuseum\, H. Rebase 1\, Imavere\, Järva maakond\, 72401\, Eesti
ORGANIZER;CN="Piimandusmuuseum":MAILTO:info@piimandusmuuseum.ee
END:VEVENT
BEGIN:VEVENT
DTSTART;TZID=UTC:20210906T110000
DTEND;TZID=UTC:20210906T123000
DTSTAMP:20260420T091924
CREATED:20210714T064839Z
LAST-MODIFIED:20210714T064839Z
UID:6424-1630926000-1630931400@piimandusmuuseum.ee
SUMMARY:Kohukeste valmistamise töötuba - broneeritud
DESCRIPTION:
URL:https://piimandusmuuseum.ee/event/kohukeste-valmistamise-tootuba-broneeritud-8
LOCATION:Piimandusmuuseum\, H. Rebase 1\, Imavere\, Järva maakond\, 72401\, Eesti
ORGANIZER;CN="Piimandusmuuseum":MAILTO:info@piimandusmuuseum.ee
END:VEVENT
BEGIN:VEVENT
DTSTART;TZID=UTC:20210906T130000
DTEND;TZID=UTC:20210906T143000
DTSTAMP:20260420T091924
CREATED:20210714T064901Z
LAST-MODIFIED:20210714T064901Z
UID:6426-1630933200-1630938600@piimandusmuuseum.ee
SUMMARY:Kohukeste valmistamise töötuba - broneeritud
DESCRIPTION:
URL:https://piimandusmuuseum.ee/event/kohukeste-valmistamise-tootuba-broneeritud-9
LOCATION:Piimandusmuuseum\, H. Rebase 1\, Imavere\, Järva maakond\, 72401\, Eesti
ORGANIZER;CN="Piimandusmuuseum":MAILTO:info@piimandusmuuseum.ee
END:VEVENT
BEGIN:VEVENT
DTSTART;TZID=UTC:20210908T150000
DTEND;TZID=UTC:20210908T163000
DTSTAMP:20260420T091924
CREATED:20210907T085325Z
LAST-MODIFIED:20210907T085325Z
UID:6451-1631113200-1631118600@piimandusmuuseum.ee
SUMMARY:Jäätise valmistamise töötuba - broneeritud
DESCRIPTION:
URL:https://piimandusmuuseum.ee/event/jaatise-valmistamise-tootuba-broneeritud-116
LOCATION:Piimandusmuuseum\, H. Rebase 1\, Imavere\, Järva maakond\, 72401\, Eesti
ORGANIZER;CN="Piimandusmuuseum":MAILTO:info@piimandusmuuseum.ee
END:VEVENT
BEGIN:VEVENT
DTSTART;VALUE=DATE:20210910
DTEND;VALUE=DATE:20210911
DTSTAMP:20260420T091924
CREATED:20210907T085435Z
LAST-MODIFIED:20210907T085435Z
UID:6453-1631232000-1631318399@piimandusmuuseum.ee
SUMMARY:Kodu-uurimis konverents - broneeritud
DESCRIPTION:
URL:https://piimandusmuuseum.ee/event/kodu-uurimis-konverents-broneeritud
LOCATION:Piimandusmuuseum\, H. Rebase 1\, Imavere\, Järva maakond\, 72401\, Eesti
ORGANIZER;CN="Piimandusmuuseum":MAILTO:info@piimandusmuuseum.ee
END:VEVENT
BEGIN:VEVENT
DTSTART;TZID=UTC:20210913T120000
DTEND;TZID=UTC:20210913T123000
DTSTAMP:20260420T091924
CREATED:20210714T065002Z
LAST-MODIFIED:20210714T065002Z
UID:6428-1631534400-1631536200@piimandusmuuseum.ee
SUMMARY:Jäätise valmistamise töötuba - broneeritud
DESCRIPTION:
URL:https://piimandusmuuseum.ee/event/jaatise-valmistamise-tootuba-broneeritud-114
LOCATION:Piimandusmuuseum\, H. Rebase 1\, Imavere\, Järva maakond\, 72401\, Eesti
ORGANIZER;CN="Piimandusmuuseum":MAILTO:info@piimandusmuuseum.ee
END:VEVENT
BEGIN:VEVENT
DTSTART;TZID=UTC:20210914T110000
DTEND;TZID=UTC:20210914T123000
DTSTAMP:20260420T091924
CREATED:20210907T085535Z
LAST-MODIFIED:20210907T085535Z
UID:6455-1631617200-1631622600@piimandusmuuseum.ee
SUMMARY:Või ja karaski valmistamise töötuba  - broneeritud
DESCRIPTION:
URL:https://piimandusmuuseum.ee/event/voi-ja-karaski-valmistamise-tootuba-broneeritud-8
LOCATION:Piimandusmuuseum\, H. Rebase 1\, Imavere\, Järva maakond\, 72401\, Eesti
ORGANIZER;CN="Piimandusmuuseum":MAILTO:info@piimandusmuuseum.ee
END:VEVENT
BEGIN:VEVENT
DTSTART;TZID=UTC:20210916T153000
DTEND;TZID=UTC:20210916T170000
DTSTAMP:20260420T091924
CREATED:20210907T085651Z
LAST-MODIFIED:20210907T085651Z
UID:6457-1631806200-1631811600@piimandusmuuseum.ee
SUMMARY:Ekskursioon + degust - broneeritud
DESCRIPTION:
URL:https://piimandusmuuseum.ee/event/ekskursioon-degust-broneeritud
LOCATION:Piimandusmuuseum\, H. Rebase 1\, Imavere\, Järva maakond\, 72401\, Eesti
ORGANIZER;CN="Piimandusmuuseum":MAILTO:info@piimandusmuuseum.ee
END:VEVENT
BEGIN:VEVENT
DTSTART;TZID=UTC:20210918T100000
DTEND;TZID=UTC:20210918T113000
DTSTAMP:20260420T091924
CREATED:20210211T085028Z
LAST-MODIFIED:20210211T085028Z
UID:6169-1631959200-1631964600@piimandusmuuseum.ee
SUMMARY:Jäätise valmistamise töötuba - broneeritud
DESCRIPTION:
URL:https://piimandusmuuseum.ee/event/jaatise-valmistamise-tootuba-broneeritud-65
LOCATION:Piimandusmuuseum\, H. Rebase 1\, Imavere\, Järva maakond\, 72401\, Eesti
ORGANIZER;CN="Piimandusmuuseum":MAILTO:info@piimandusmuuseum.ee
END:VEVENT
END:VCALENDAR