BEGIN:VCALENDAR
VERSION:2.0
PRODID:-//Eesti Piimandusmuuseum - ECPv6.15.20//NONSGML v1.0//EN
CALSCALE:GREGORIAN
METHOD:PUBLISH
X-ORIGINAL-URL:https://piimandusmuuseum.ee
X-WR-CALDESC:Events for Eesti Piimandusmuuseum
REFRESH-INTERVAL;VALUE=DURATION:PT1H
X-Robots-Tag:noindex
X-PUBLISHED-TTL:PT1H
BEGIN:VTIMEZONE
TZID:UTC
BEGIN:STANDARD
TZOFFSETFROM:+0000
TZOFFSETTO:+0000
TZNAME:UTC
DTSTART:20200101T000000
END:STANDARD
END:VTIMEZONE
BEGIN:VEVENT
DTSTART;TZID=UTC:20211102T120000
DTEND;TZID=UTC:20211102T133000
DTSTAMP:20260420T052924
CREATED:20211014T065944Z
LAST-MODIFIED:20211014T082654Z
UID:6508-1635854400-1635859800@piimandusmuuseum.ee
SUMMARY:Jäätise valmistamise töötuba - broneeritud
DESCRIPTION:
URL:https://piimandusmuuseum.ee/event/broneeritud-4
LOCATION:Piimandusmuuseum\, H. Rebase 1\, Imavere\, Järva maakond\, 72401\, Eesti
ORGANIZER;CN="Piimandusmuuseum":MAILTO:info@piimandusmuuseum.ee
END:VEVENT
BEGIN:VEVENT
DTSTART;TZID=UTC:20211106T123000
DTEND;TZID=UTC:20211106T140000
DTSTAMP:20260420T052924
CREATED:20211014T081549Z
LAST-MODIFIED:20211014T081549Z
UID:6511-1636201800-1636207200@piimandusmuuseum.ee
SUMMARY:Jäätise valmistamise töötuba - broneeritud
DESCRIPTION:
URL:https://piimandusmuuseum.ee/event/jaatise-valmistamise-tootuba-broneeritud-127
LOCATION:Piimandusmuuseum\, H. Rebase 1\, Imavere\, Järva maakond\, 72401\, Eesti
ORGANIZER;CN="Piimandusmuuseum":MAILTO:info@piimandusmuuseum.ee
END:VEVENT
BEGIN:VEVENT
DTSTART;TZID=UTC:20211111T110000
DTEND;TZID=UTC:20211111T123000
DTSTAMP:20260420T052924
CREATED:20210916T061042Z
LAST-MODIFIED:20210916T061042Z
UID:6482-1636628400-1636633800@piimandusmuuseum.ee
SUMMARY:Jäätise valmistamise tööuba - broneeritud
DESCRIPTION:
URL:https://piimandusmuuseum.ee/event/jaatise-valmistamise-toouba-broneeritud
LOCATION:Piimandusmuuseum\, H. Rebase 1\, Imavere\, Järva maakond\, 72401\, Eesti
ORGANIZER;CN="Piimandusmuuseum":MAILTO:info@piimandusmuuseum.ee
END:VEVENT
BEGIN:VEVENT
DTSTART;TZID=UTC:20211113T110000
DTEND;TZID=UTC:20211113T123000
DTSTAMP:20260420T052924
CREATED:20210916T061120Z
LAST-MODIFIED:20210916T061120Z
UID:6484-1636801200-1636806600@piimandusmuuseum.ee
SUMMARY:Jäätise valmistamise töötuba - broneeritud
DESCRIPTION:
URL:https://piimandusmuuseum.ee/event/jaatise-valmistamise-tootuba-broneeritud-120
LOCATION:Piimandusmuuseum\, H. Rebase 1\, Imavere\, Järva maakond\, 72401\, Eesti
ORGANIZER;CN="Piimandusmuuseum":MAILTO:info@piimandusmuuseum.ee
END:VEVENT
BEGIN:VEVENT
DTSTART;TZID=UTC:20211116T100000
DTEND;TZID=UTC:20211116T120000
DTSTAMP:20260420T052924
CREATED:20211110T122916Z
LAST-MODIFIED:20211110T122916Z
UID:6534-1637056800-1637064000@piimandusmuuseum.ee
SUMMARY:Kohukeste valmistamise töötuba - broneeritud
DESCRIPTION:
URL:https://piimandusmuuseum.ee/event/kohukeste-valmistamise-tootuba-broneeritud-12
LOCATION:Piimandusmuuseum\, H. Rebase 1\, Imavere\, Järva maakond\, 72401\, Eesti
ORGANIZER;CN="Piimandusmuuseum":MAILTO:info@piimandusmuuseum.ee
END:VEVENT
BEGIN:VEVENT
DTSTART;TZID=UTC:20211119T111500
DTEND;TZID=UTC:20211119T130000
DTSTAMP:20260420T052924
CREATED:20211020T062143Z
LAST-MODIFIED:20211020T062143Z
UID:6519-1637320500-1637326800@piimandusmuuseum.ee
SUMMARY:Kohukeste valmistamise töötuba - broneeritud
DESCRIPTION:
URL:https://piimandusmuuseum.ee/event/kohukeste-valmistamise-tootuba-broneeritud-11
LOCATION:Piimandusmuuseum\, H. Rebase 1\, Imavere\, Järva maakond\, 72401\, Eesti
ORGANIZER;CN="Piimandusmuuseum":MAILTO:info@piimandusmuuseum.ee
END:VEVENT
BEGIN:VEVENT
DTSTART;TZID=UTC:20211120T100000
DTEND;TZID=UTC:20211120T113000
DTSTAMP:20260420T052924
CREATED:20210211T085109Z
LAST-MODIFIED:20210211T085109Z
UID:6171-1637402400-1637407800@piimandusmuuseum.ee
SUMMARY:Jäätise valmistamise töötuba - broneeritud
DESCRIPTION:
URL:https://piimandusmuuseum.ee/event/jaatise-valmistamise-tootuba-broneeritud-66
LOCATION:Piimandusmuuseum\, H. Rebase 1\, Imavere\, Järva maakond\, 72401\, Eesti
ORGANIZER;CN="Piimandusmuuseum":MAILTO:info@piimandusmuuseum.ee
END:VEVENT
BEGIN:VEVENT
DTSTART;TZID=UTC:20211122T130000
DTEND;TZID=UTC:20211122T150000
DTSTAMP:20260420T052924
CREATED:20210916T061209Z
LAST-MODIFIED:20210916T061209Z
UID:6486-1637586000-1637593200@piimandusmuuseum.ee
SUMMARY:Norra grupp - Järvamaa maitsed
DESCRIPTION:
URL:https://piimandusmuuseum.ee/event/norra-grupp-jarvamaa-maitsed
LOCATION:Piimandusmuuseum\, H. Rebase 1\, Imavere\, Järva maakond\, 72401\, Eesti
ORGANIZER;CN="Piimandusmuuseum":MAILTO:info@piimandusmuuseum.ee
END:VEVENT
BEGIN:VEVENT
DTSTART;TZID=UTC:20211124T120000
DTEND;TZID=UTC:20211124T140000
DTSTAMP:20260420T052924
CREATED:20211110T123047Z
LAST-MODIFIED:20211110T123047Z
UID:6536-1637755200-1637762400@piimandusmuuseum.ee
SUMMARY:Kohukeste valmistamine - broneeritud
DESCRIPTION:
URL:https://piimandusmuuseum.ee/event/kohukeste-valmistamine-broneeritud
LOCATION:Piimandusmuuseum\, H. Rebase 1\, Imavere\, Järva maakond\, 72401\, Eesti
ORGANIZER;CN="Piimandusmuuseum":MAILTO:info@piimandusmuuseum.ee
END:VEVENT
BEGIN:VEVENT
DTSTART;TZID=UTC:20211125T143000
DTEND;TZID=UTC:20211125T153000
DTSTAMP:20260420T052924
CREATED:20211012T061932Z
LAST-MODIFIED:20211012T061932Z
UID:6504-1637850600-1637854200@piimandusmuuseum.ee
SUMMARY:Sõira valmistamise töötuba - broneeritud
DESCRIPTION:
URL:https://piimandusmuuseum.ee/event/soira-valmistamise-tootuba-broneeritud-4
LOCATION:Piimandusmuuseum\, H. Rebase 1\, Imavere\, Järva maakond\, 72401\, Eesti
ORGANIZER;CN="Piimandusmuuseum":MAILTO:info@piimandusmuuseum.ee
END:VEVENT
BEGIN:VEVENT
DTSTART;VALUE=DATE:20211129
DTEND;VALUE=DATE:20211201
DTSTAMP:20260420T052924
CREATED:20211110T123146Z
LAST-MODIFIED:20211110T123146Z
UID:6538-1638144000-1638316799@piimandusmuuseum.ee
SUMMARY:broneeritud
DESCRIPTION:
URL:https://piimandusmuuseum.ee/event/broneeritud-5
LOCATION:Järva maakond
END:VEVENT
END:VCALENDAR