BEGIN:VCALENDAR
VERSION:2.0
PRODID:-//Eesti Piimandusmuuseum - ECPv6.15.20//NONSGML v1.0//EN
CALSCALE:GREGORIAN
METHOD:PUBLISH
X-WR-CALNAME:Eesti Piimandusmuuseum
X-ORIGINAL-URL:https://piimandusmuuseum.ee
X-WR-CALDESC:Events for Eesti Piimandusmuuseum
REFRESH-INTERVAL;VALUE=DURATION:PT1H
X-Robots-Tag:noindex
X-PUBLISHED-TTL:PT1H
BEGIN:VTIMEZONE
TZID:UTC
BEGIN:STANDARD
TZOFFSETFROM:+0000
TZOFFSETTO:+0000
TZNAME:UTC
DTSTART:20210101T000000
END:STANDARD
END:VTIMEZONE
BEGIN:VEVENT
DTSTART;TZID=UTC:20220820T100000
DTEND;TZID=UTC:20220820T113000
DTSTAMP:20260419T202715
CREATED:20220201T091543Z
LAST-MODIFIED:20220201T091543Z
UID:6721-1660989600-1660995000@piimandusmuuseum.ee
SUMMARY:Jäätise valmistamise töötuba - broneeritud
DESCRIPTION:
URL:https://piimandusmuuseum.ee/event/jaatise-valmistamise-tootuba-broneeritud-141
LOCATION:Piimandusmuuseum\, H. Rebase 1\, Imavere\, Järva maakond\, 72401\, Eesti
ORGANIZER;CN="Piimandusmuuseum":MAILTO:info@piimandusmuuseum.ee
END:VEVENT
END:VCALENDAR