BEGIN:VCALENDAR
VERSION:2.0
PRODID:-//Eesti Piimandusmuuseum - ECPv6.15.20//NONSGML v1.0//EN
CALSCALE:GREGORIAN
METHOD:PUBLISH
X-WR-CALNAME:Eesti Piimandusmuuseum
X-ORIGINAL-URL:https://piimandusmuuseum.ee
X-WR-CALDESC:Events for Eesti Piimandusmuuseum
REFRESH-INTERVAL;VALUE=DURATION:PT1H
X-Robots-Tag:noindex
X-PUBLISHED-TTL:PT1H
BEGIN:VTIMEZONE
TZID:UTC
BEGIN:STANDARD
TZOFFSETFROM:+0000
TZOFFSETTO:+0000
TZNAME:UTC
DTSTART:20210101T000000
END:STANDARD
END:VTIMEZONE
BEGIN:VEVENT
DTSTART;TZID=UTC:20220913T090000
DTEND;TZID=UTC:20220913T103000
DTSTAMP:20260419T221406
CREATED:20220912T064841Z
LAST-MODIFIED:20220912T064859Z
UID:6956-1663059600-1663065000@piimandusmuuseum.ee
SUMMARY:Jäätise valmistamise töötuba - broneeritud!
DESCRIPTION:
URL:https://piimandusmuuseum.ee/event/jaatise-valmistamise-tootuba-7
LOCATION:Piimandusmuuseum\, H. Rebase 1\, Imavere\, Järva maakond\, 72401\, Eesti
ORGANIZER;CN="Piimandusmuuseum":MAILTO:info@piimandusmuuseum.ee
END:VEVENT
BEGIN:VEVENT
DTSTART;TZID=UTC:20220917T100000
DTEND;TZID=UTC:20220917T113000
DTSTAMP:20260419T221406
CREATED:20220912T064948Z
LAST-MODIFIED:20220912T064948Z
UID:6959-1663408800-1663414200@piimandusmuuseum.ee
SUMMARY:Jäätise valmistamise töötuba - broneeritud!
DESCRIPTION:
URL:https://piimandusmuuseum.ee/event/jaatise-valmistamise-tootuba-broneeritud-210
LOCATION:Piimandusmuuseum\, H. Rebase 1\, Imavere\, Järva maakond\, 72401\, Eesti
ORGANIZER;CN="Piimandusmuuseum":MAILTO:info@piimandusmuuseum.ee
END:VEVENT
BEGIN:VEVENT
DTSTART;TZID=UTC:20220917T120000
DTEND;TZID=UTC:20220917T133000
DTSTAMP:20260419T221406
CREATED:20220201T091831Z
LAST-MODIFIED:20220912T095926Z
UID:6725-1663416000-1663421400@piimandusmuuseum.ee
SUMMARY:Kohukeste valmistamise töötuba - broneeritud
DESCRIPTION:
URL:https://piimandusmuuseum.ee/event/jaatise-valmistamise-tootuba-broneeritud-142
LOCATION:Piimandusmuuseum\, H. Rebase 1\, Imavere\, Järva maakond\, 72401\, Eesti
ORGANIZER;CN="Piimandusmuuseum":MAILTO:info@piimandusmuuseum.ee
END:VEVENT
BEGIN:VEVENT
DTSTART;TZID=UTC:20220920T093000
DTEND;TZID=UTC:20220920T113000
DTSTAMP:20260419T221406
CREATED:20220912T065109Z
LAST-MODIFIED:20220912T065109Z
UID:6961-1663666200-1663673400@piimandusmuuseum.ee
SUMMARY:Töötoad - broneeritud!
DESCRIPTION:
URL:https://piimandusmuuseum.ee/event/tootoad-broneeritud-2
LOCATION:Piimandusmuuseum\, H. Rebase 1\, Imavere\, Järva maakond\, 72401\, Eesti
ORGANIZER;CN="Piimandusmuuseum":MAILTO:info@piimandusmuuseum.ee
END:VEVENT
BEGIN:VEVENT
DTSTART;TZID=UTC:20220921T110000
DTEND;TZID=UTC:20220921T123000
DTSTAMP:20260419T221406
CREATED:20220912T065317Z
LAST-MODIFIED:20220912T065317Z
UID:6963-1663758000-1663763400@piimandusmuuseum.ee
SUMMARY:Juustude degusteerimine - broneeritud!
DESCRIPTION:
URL:https://piimandusmuuseum.ee/event/juustude-degusteerimine-broneeritud-2
LOCATION:Piimandusmuuseum\, H. Rebase 1\, Imavere\, Järva maakond\, 72401\, Eesti
ORGANIZER;CN="Piimandusmuuseum":MAILTO:info@piimandusmuuseum.ee
END:VEVENT
BEGIN:VEVENT
DTSTART;TZID=UTC:20220922T110000
DTEND;TZID=UTC:20220922T123000
DTSTAMP:20260419T221406
CREATED:20220912T100035Z
LAST-MODIFIED:20220912T100035Z
UID:6976-1663844400-1663849800@piimandusmuuseum.ee
SUMMARY:Juustude degusteerimine - broneeritud!
DESCRIPTION:
URL:https://piimandusmuuseum.ee/event/juustude-degusteerimine-broneeritud-3
LOCATION:Piimandusmuuseum\, H. Rebase 1\, Imavere\, Järva maakond\, 72401\, Eesti
ORGANIZER;CN="Piimandusmuuseum":MAILTO:info@piimandusmuuseum.ee
END:VEVENT
BEGIN:VEVENT
DTSTART;TZID=UTC:20220928T123000
DTEND;TZID=UTC:20220928T140000
DTSTAMP:20260419T221406
CREATED:20220912T065414Z
LAST-MODIFIED:20220912T065414Z
UID:6965-1664368200-1664373600@piimandusmuuseum.ee
SUMMARY:Kohukeste valmistamise töötuba - broneeritud!
DESCRIPTION:
URL:https://piimandusmuuseum.ee/event/kohukeste-valmistamise-tootuba-broneeritud-17
LOCATION:Piimandusmuuseum\, H. Rebase 1\, Imavere\, Järva maakond\, 72401\, Eesti
ORGANIZER;CN="Piimandusmuuseum":MAILTO:info@piimandusmuuseum.ee
END:VEVENT
END:VCALENDAR