BEGIN:VCALENDAR
VERSION:2.0
PRODID:-//Eesti Piimandusmuuseum - ECPv6.15.20//NONSGML v1.0//EN
CALSCALE:GREGORIAN
METHOD:PUBLISH
X-ORIGINAL-URL:https://piimandusmuuseum.ee
X-WR-CALDESC:Events for Eesti Piimandusmuuseum
REFRESH-INTERVAL;VALUE=DURATION:PT1H
X-Robots-Tag:noindex
X-PUBLISHED-TTL:PT1H
BEGIN:VTIMEZONE
TZID:UTC
BEGIN:STANDARD
TZOFFSETFROM:+0000
TZOFFSETTO:+0000
TZNAME:UTC
DTSTART:20210101T000000
END:STANDARD
END:VTIMEZONE
BEGIN:VEVENT
DTSTART;TZID=UTC:20221103T100000
DTEND;TZID=UTC:20221103T113000
DTSTAMP:20260420T013718
CREATED:20221103T080152Z
LAST-MODIFIED:20221103T080152Z
UID:6995-1667469600-1667475000@piimandusmuuseum.ee
SUMMARY:Kohukeste valmistamise töötuba - broneeritud
DESCRIPTION:
URL:https://piimandusmuuseum.ee/event/kohukeste-valmistamise-tootuba-broneeritud-18
LOCATION:Piimandusmuuseum\, H. Rebase 1\, Imavere\, Järva maakond\, 72401\, Eesti
ORGANIZER;CN="Piimandusmuuseum":MAILTO:info@piimandusmuuseum.ee
END:VEVENT
BEGIN:VEVENT
DTSTART;TZID=UTC:20221103T133000
DTEND;TZID=UTC:20221103T150000
DTSTAMP:20260420T013718
CREATED:20221103T080252Z
LAST-MODIFIED:20221103T080252Z
UID:6997-1667482200-1667487600@piimandusmuuseum.ee
SUMMARY:Jäätise valmistamise töötuba  - broneeritud!
DESCRIPTION:
URL:https://piimandusmuuseum.ee/event/jaatise-valmistamise-tootuba-broneeritud-212
LOCATION:Piimandusmuuseum\, H. Rebase 1\, Imavere\, Järva maakond\, 72401\, Eesti
ORGANIZER;CN="Piimandusmuuseum":MAILTO:info@piimandusmuuseum.ee
END:VEVENT
BEGIN:VEVENT
DTSTART;TZID=UTC:20221108T130000
DTEND;TZID=UTC:20221108T143000
DTSTAMP:20260420T013718
CREATED:20221103T080340Z
LAST-MODIFIED:20221103T080340Z
UID:6999-1667912400-1667917800@piimandusmuuseum.ee
SUMMARY:Jäätise valmistamise töötuba  - broneeritud!
DESCRIPTION:
URL:https://piimandusmuuseum.ee/event/jaatise-valmistamise-tootuba-broneeritud-213
LOCATION:Piimandusmuuseum\, H. Rebase 1\, Imavere\, Järva maakond\, 72401\, Eesti
ORGANIZER;CN="Piimandusmuuseum":MAILTO:info@piimandusmuuseum.ee
END:VEVENT
BEGIN:VEVENT
DTSTART;TZID=UTC:20221111T130000
DTEND;TZID=UTC:20221111T143000
DTSTAMP:20260420T013718
CREATED:20221103T080442Z
LAST-MODIFIED:20221103T080442Z
UID:7001-1668171600-1668177000@piimandusmuuseum.ee
SUMMARY:Jäätise valmistamise töötuba  - broneeritud!
DESCRIPTION:
URL:https://piimandusmuuseum.ee/event/jaatise-valmistamise-tootuba-broneeritud-214
LOCATION:Piimandusmuuseum\, H. Rebase 1\, Imavere\, Järva maakond\, 72401\, Eesti
ORGANIZER;CN="Piimandusmuuseum":MAILTO:info@piimandusmuuseum.ee
END:VEVENT
BEGIN:VEVENT
DTSTART;TZID=UTC:20221118T140000
DTEND;TZID=UTC:20221118T153000
DTSTAMP:20260420T013718
CREATED:20221103T080611Z
LAST-MODIFIED:20221103T080611Z
UID:7003-1668780000-1668785400@piimandusmuuseum.ee
SUMMARY:Kohukeste valmistamise töötuba  - broneeritud!
DESCRIPTION:
URL:https://piimandusmuuseum.ee/event/kohukeste-valmistamise-tootuba-broneeritud-19
LOCATION:Piimandusmuuseum\, H. Rebase 1\, Imavere\, Järva maakond\, 72401\, Eesti
ORGANIZER;CN="Piimandusmuuseum":MAILTO:info@piimandusmuuseum.ee
END:VEVENT
BEGIN:VEVENT
DTSTART;TZID=UTC:20221119T100000
DTEND;TZID=UTC:20221119T123000
DTSTAMP:20260420T013718
CREATED:20220912T065600Z
LAST-MODIFIED:20220912T065600Z
UID:6970-1668852000-1668861000@piimandusmuuseum.ee
SUMMARY:Jäätise valmistamise töötuba - broneeritud!
DESCRIPTION:
URL:https://piimandusmuuseum.ee/event/jaatise-valmistamise-tootuba-broneeritud-211
LOCATION:Piimandusmuuseum\, H. Rebase 1\, Imavere\, Järva maakond\, 72401\, Eesti
ORGANIZER;CN="Piimandusmuuseum":MAILTO:info@piimandusmuuseum.ee
END:VEVENT
BEGIN:VEVENT
DTSTART;TZID=UTC:20221124T110000
DTEND;TZID=UTC:20221124T140000
DTSTAMP:20260420T013718
CREATED:20220912T065701Z
LAST-MODIFIED:20220912T065701Z
UID:6972-1669287600-1669298400@piimandusmuuseum.ee
SUMMARY:Töötoad - broneeritud!
DESCRIPTION:
URL:https://piimandusmuuseum.ee/event/tootoad-broneeritud-3
LOCATION:Piimandusmuuseum\, H. Rebase 1\, Imavere\, Järva maakond\, 72401\, Eesti
ORGANIZER;CN="Piimandusmuuseum":MAILTO:info@piimandusmuuseum.ee
END:VEVENT
END:VCALENDAR