BEGIN:VCALENDAR
VERSION:2.0
PRODID:-//Eesti Piimandusmuuseum - ECPv6.15.20//NONSGML v1.0//EN
CALSCALE:GREGORIAN
METHOD:PUBLISH
X-ORIGINAL-URL:https://piimandusmuuseum.ee
X-WR-CALDESC:Events for Eesti Piimandusmuuseum
REFRESH-INTERVAL;VALUE=DURATION:PT1H
X-Robots-Tag:noindex
X-PUBLISHED-TTL:PT1H
BEGIN:VTIMEZONE
TZID:UTC
BEGIN:STANDARD
TZOFFSETFROM:+0000
TZOFFSETTO:+0000
TZNAME:UTC
DTSTART:20240101T000000
END:STANDARD
END:VTIMEZONE
BEGIN:VEVENT
DTSTART;TZID=UTC:20250506T100000
DTEND;TZID=UTC:20250506T113000
DTSTAMP:20260421T133909
CREATED:20250220T090241Z
LAST-MODIFIED:20250220T090241Z
UID:8125-1746525600-1746531000@piimandusmuuseum.ee
SUMMARY:Jäätise valmistamise töötuba - broneeritud!
DESCRIPTION:
URL:https://piimandusmuuseum.ee/event/jaatise-valmistamise-tootuba-broneeritud-347
LOCATION:Piimandusmuuseum\, H. Rebase 1\, Imavere\, Järva maakond\, 72401\, Eesti
ORGANIZER;CN="Piimandusmuuseum":MAILTO:info@piimandusmuuseum.ee
END:VEVENT
BEGIN:VEVENT
DTSTART;TZID=UTC:20250507T100000
DTEND;TZID=UTC:20250507T113000
DTSTAMP:20260421T133909
CREATED:20250220T090322Z
LAST-MODIFIED:20250220T090322Z
UID:8127-1746612000-1746617400@piimandusmuuseum.ee
SUMMARY:Jäätise valmistamise töötuba - broneeritud!
DESCRIPTION:
URL:https://piimandusmuuseum.ee/event/jaatise-valmistamise-tootuba-broneeritud-348
LOCATION:Piimandusmuuseum\, H. Rebase 1\, Imavere\, Järva maakond\, 72401\, Eesti
ORGANIZER;CN="Piimandusmuuseum":MAILTO:info@piimandusmuuseum.ee
END:VEVENT
BEGIN:VEVENT
DTSTART;TZID=UTC:20250507T120000
DTEND;TZID=UTC:20250507T133000
DTSTAMP:20260421T133909
CREATED:20250326T075909Z
LAST-MODIFIED:20250326T075909Z
UID:8208-1746619200-1746624600@piimandusmuuseum.ee
SUMMARY:Jäätise valmistamise töötuba – broneeritud!
DESCRIPTION:
URL:https://piimandusmuuseum.ee/event/jaatise-valmistamise-tootuba-broneeritud-370
LOCATION:Piimandusmuuseum\, H. Rebase 1\, Imavere\, Järva maakond\, 72401\, Eesti
ORGANIZER;CN="Piimandusmuuseum":MAILTO:info@piimandusmuuseum.ee
END:VEVENT
BEGIN:VEVENT
DTSTART;TZID=UTC:20250512T093000
DTEND;TZID=UTC:20250512T110000
DTSTAMP:20260421T133909
CREATED:20250326T075950Z
LAST-MODIFIED:20250326T075950Z
UID:8210-1747042200-1747047600@piimandusmuuseum.ee
SUMMARY:Jäätise valmistamise töötuba – broneeritud!
DESCRIPTION:
URL:https://piimandusmuuseum.ee/event/jaatise-valmistamise-tootuba-broneeritud-371
LOCATION:Piimandusmuuseum\, H. Rebase 1\, Imavere\, Järva maakond\, 72401\, Eesti
ORGANIZER;CN="Piimandusmuuseum":MAILTO:info@piimandusmuuseum.ee
END:VEVENT
BEGIN:VEVENT
DTSTART;TZID=UTC:20250512T113000
DTEND;TZID=UTC:20250512T130000
DTSTAMP:20260421T133909
CREATED:20250326T080129Z
LAST-MODIFIED:20250326T080129Z
UID:8214-1747049400-1747054800@piimandusmuuseum.ee
SUMMARY:Jäätise valmistamise töötuba – broneeritud!
DESCRIPTION:
URL:https://piimandusmuuseum.ee/event/jaatise-valmistamise-tootuba-broneeritud-372
LOCATION:Piimandusmuuseum\, H. Rebase 1\, Imavere\, Järva maakond\, 72401\, Eesti
ORGANIZER;CN="Piimandusmuuseum":MAILTO:info@piimandusmuuseum.ee
END:VEVENT
BEGIN:VEVENT
DTSTART;TZID=UTC:20250515T120000
DTEND;TZID=UTC:20250515T133000
DTSTAMP:20260421T133909
CREATED:20250220T090430Z
LAST-MODIFIED:20250220T090430Z
UID:8129-1747310400-1747315800@piimandusmuuseum.ee
SUMMARY:Karaski ja või valmistamise töötuba - broneeritud!
DESCRIPTION:
URL:https://piimandusmuuseum.ee/event/karaski-ja-voi-valmistamise-tootuba-broneeritud-2
LOCATION:Piimandusmuuseum\, H. Rebase 1\, Imavere\, Järva maakond\, 72401\, Eesti
ORGANIZER;CN="Piimandusmuuseum":MAILTO:info@piimandusmuuseum.ee
END:VEVENT
BEGIN:VEVENT
DTSTART;TZID=UTC:20250516T100000
DTEND;TZID=UTC:20250516T113000
DTSTAMP:20260421T133909
CREATED:20250326T080209Z
LAST-MODIFIED:20250326T080209Z
UID:8216-1747389600-1747395000@piimandusmuuseum.ee
SUMMARY:Jäätise valmistamise töötuba – broneeritud!
DESCRIPTION:
URL:https://piimandusmuuseum.ee/event/jaatise-valmistamise-tootuba-broneeritud-373
LOCATION:Piimandusmuuseum\, H. Rebase 1\, Imavere\, Järva maakond\, 72401\, Eesti
ORGANIZER;CN="Piimandusmuuseum":MAILTO:info@piimandusmuuseum.ee
END:VEVENT
BEGIN:VEVENT
DTSTART;TZID=UTC:20250519T103000
DTEND;TZID=UTC:20250519T120000
DTSTAMP:20260421T133909
CREATED:20250326T080245Z
LAST-MODIFIED:20250326T080245Z
UID:8218-1747650600-1747656000@piimandusmuuseum.ee
SUMMARY:Jäätise valmistamise töötuba – broneeritud!
DESCRIPTION:
URL:https://piimandusmuuseum.ee/event/jaatise-valmistamise-tootuba-broneeritud-374
LOCATION:Piimandusmuuseum\, H. Rebase 1\, Imavere\, Järva maakond\, 72401\, Eesti
ORGANIZER;CN="Piimandusmuuseum":MAILTO:info@piimandusmuuseum.ee
END:VEVENT
BEGIN:VEVENT
DTSTART;TZID=UTC:20250519T140000
DTEND;TZID=UTC:20250519T153000
DTSTAMP:20260421T133909
CREATED:20250326T080320Z
LAST-MODIFIED:20250326T080320Z
UID:8220-1747663200-1747668600@piimandusmuuseum.ee
SUMMARY:Jäätise valmistamise töötuba – broneeritud!
DESCRIPTION:
URL:https://piimandusmuuseum.ee/event/jaatise-valmistamise-tootuba-broneeritud-375
LOCATION:Piimandusmuuseum\, H. Rebase 1\, Imavere\, Järva maakond\, 72401\, Eesti
ORGANIZER;CN="Piimandusmuuseum":MAILTO:info@piimandusmuuseum.ee
END:VEVENT
BEGIN:VEVENT
DTSTART;TZID=UTC:20250522T100000
DTEND;TZID=UTC:20250522T113000
DTSTAMP:20260421T133909
CREATED:20250326T080402Z
LAST-MODIFIED:20250326T080402Z
UID:8222-1747908000-1747913400@piimandusmuuseum.ee
SUMMARY:Jäätise valmistamise töötuba – broneeritud!
DESCRIPTION:
URL:https://piimandusmuuseum.ee/event/jaatise-valmistamise-tootuba-broneeritud-376
LOCATION:Piimandusmuuseum\, H. Rebase 1\, Imavere\, Järva maakond\, 72401\, Eesti
ORGANIZER;CN="Piimandusmuuseum":MAILTO:info@piimandusmuuseum.ee
END:VEVENT
BEGIN:VEVENT
DTSTART;TZID=UTC:20250526T103000
DTEND;TZID=UTC:20250526T120000
DTSTAMP:20260421T133909
CREATED:20250326T080432Z
LAST-MODIFIED:20250326T080432Z
UID:8224-1748255400-1748260800@piimandusmuuseum.ee
SUMMARY:Jäätise valmistamise töötuba – broneeritud!
DESCRIPTION:
URL:https://piimandusmuuseum.ee/event/jaatise-valmistamise-tootuba-broneeritud-377
LOCATION:Piimandusmuuseum\, H. Rebase 1\, Imavere\, Järva maakond\, 72401\, Eesti
ORGANIZER;CN="Piimandusmuuseum":MAILTO:info@piimandusmuuseum.ee
END:VEVENT
BEGIN:VEVENT
DTSTART;TZID=UTC:20250527T100000
DTEND;TZID=UTC:20250527T113000
DTSTAMP:20260421T133909
CREATED:20250326T080500Z
LAST-MODIFIED:20250326T080500Z
UID:8226-1748340000-1748345400@piimandusmuuseum.ee
SUMMARY:Jäätise valmistamise töötuba – broneeritud!
DESCRIPTION:
URL:https://piimandusmuuseum.ee/event/jaatise-valmistamise-tootuba-broneeritud-378
LOCATION:Piimandusmuuseum\, H. Rebase 1\, Imavere\, Järva maakond\, 72401\, Eesti
ORGANIZER;CN="Piimandusmuuseum":MAILTO:info@piimandusmuuseum.ee
END:VEVENT
BEGIN:VEVENT
DTSTART;TZID=UTC:20250528T100000
DTEND;TZID=UTC:20250528T113000
DTSTAMP:20260421T133909
CREATED:20250326T080538Z
LAST-MODIFIED:20250326T080538Z
UID:8228-1748426400-1748431800@piimandusmuuseum.ee
SUMMARY:Jäätise valmistamise töötuba – broneeritud!
DESCRIPTION:
URL:https://piimandusmuuseum.ee/event/jaatise-valmistamise-tootuba-broneeritud-379
LOCATION:Piimandusmuuseum\, H. Rebase 1\, Imavere\, Järva maakond\, 72401\, Eesti
ORGANIZER;CN="Piimandusmuuseum":MAILTO:info@piimandusmuuseum.ee
END:VEVENT
BEGIN:VEVENT
DTSTART;TZID=UTC:20250529T110000
DTEND;TZID=UTC:20250529T123000
DTSTAMP:20260421T133909
CREATED:20250326T080616Z
LAST-MODIFIED:20250326T080616Z
UID:8230-1748516400-1748521800@piimandusmuuseum.ee
SUMMARY:Kohukeste valmistamise töötuba – broneeritud!
DESCRIPTION:
URL:https://piimandusmuuseum.ee/event/kohukeste-valmistamise-tootuba-broneeritud-31
LOCATION:Piimandusmuuseum\, H. Rebase 1\, Imavere\, Järva maakond\, 72401\, Eesti
ORGANIZER;CN="Piimandusmuuseum":MAILTO:info@piimandusmuuseum.ee
END:VEVENT
BEGIN:VEVENT
DTSTART;TZID=UTC:20250529T130000
DTEND;TZID=UTC:20250529T143000
DTSTAMP:20260421T133909
CREATED:20250326T080640Z
LAST-MODIFIED:20250326T080640Z
UID:8232-1748523600-1748529000@piimandusmuuseum.ee
SUMMARY:Jäätise valmistamise töötuba – broneeritud!
DESCRIPTION:
URL:https://piimandusmuuseum.ee/event/jaatise-valmistamise-tootuba-broneeritud-380
LOCATION:Piimandusmuuseum\, H. Rebase 1\, Imavere\, Järva maakond\, 72401\, Eesti
ORGANIZER;CN="Piimandusmuuseum":MAILTO:info@piimandusmuuseum.ee
END:VEVENT
BEGIN:VEVENT
DTSTART;TZID=UTC:20250530T100000
DTEND;TZID=UTC:20250530T113000
DTSTAMP:20260421T133909
CREATED:20250220T090509Z
LAST-MODIFIED:20250220T090509Z
UID:8131-1748599200-1748604600@piimandusmuuseum.ee
SUMMARY:Jäätise valmistamise töötuba - broneeritud!
DESCRIPTION:
URL:https://piimandusmuuseum.ee/event/jaatise-valmistamise-tootuba-broneeritud-349
LOCATION:Piimandusmuuseum\, H. Rebase 1\, Imavere\, Järva maakond\, 72401\, Eesti
ORGANIZER;CN="Piimandusmuuseum":MAILTO:info@piimandusmuuseum.ee
END:VEVENT
BEGIN:VEVENT
DTSTART;TZID=UTC:20250530T113000
DTEND;TZID=UTC:20250530T130000
DTSTAMP:20260421T133909
CREATED:20250326T080711Z
LAST-MODIFIED:20250326T080711Z
UID:8234-1748604600-1748610000@piimandusmuuseum.ee
SUMMARY:Jäätise valmistamise töötuba – broneeritud!
DESCRIPTION:
URL:https://piimandusmuuseum.ee/event/jaatise-valmistamise-tootuba-broneeritud-381
LOCATION:Piimandusmuuseum\, H. Rebase 1\, Imavere\, Järva maakond\, 72401\, Eesti
ORGANIZER;CN="Piimandusmuuseum":MAILTO:info@piimandusmuuseum.ee
END:VEVENT
BEGIN:VEVENT
DTSTART;TZID=UTC:20250530T150000
DTEND;TZID=UTC:20250530T163000
DTSTAMP:20260421T133909
CREATED:20250220T090538Z
LAST-MODIFIED:20250220T090538Z
UID:8133-1748617200-1748622600@piimandusmuuseum.ee
SUMMARY:Jäätise valmistamise töötuba - broneeritud!
DESCRIPTION:
URL:https://piimandusmuuseum.ee/event/jaatise-valmistamise-tootuba-broneeritud-350
LOCATION:Piimandusmuuseum\, H. Rebase 1\, Imavere\, Järva maakond\, 72401\, Eesti
ORGANIZER;CN="Piimandusmuuseum":MAILTO:info@piimandusmuuseum.ee
END:VEVENT
END:VCALENDAR